BEGIN:VCALENDAR
VERSION:2.0
PRODID:-//Physiotherapie - ECPv6.15.20//NONSGML v1.0//EN
CALSCALE:GREGORIAN
METHOD:PUBLISH
X-ORIGINAL-URL:https://therabor.de
X-WR-CALDESC:Veranstaltungen für Physiotherapie
REFRESH-INTERVAL;VALUE=DURATION:PT1H
X-Robots-Tag:noindex
X-PUBLISHED-TTL:PT1H
BEGIN:VTIMEZONE
TZID:Europe/Berlin
BEGIN:DAYLIGHT
TZOFFSETFROM:+0100
TZOFFSETTO:+0200
TZNAME:CEST
DTSTART:20240331T010000
END:DAYLIGHT
BEGIN:STANDARD
TZOFFSETFROM:+0200
TZOFFSETTO:+0100
TZNAME:CET
DTSTART:20241027T010000
END:STANDARD
BEGIN:DAYLIGHT
TZOFFSETFROM:+0100
TZOFFSETTO:+0200
TZNAME:CEST
DTSTART:20250330T010000
END:DAYLIGHT
BEGIN:STANDARD
TZOFFSETFROM:+0200
TZOFFSETTO:+0100
TZNAME:CET
DTSTART:20251026T010000
END:STANDARD
BEGIN:DAYLIGHT
TZOFFSETFROM:+0100
TZOFFSETTO:+0200
TZNAME:CEST
DTSTART:20260329T010000
END:DAYLIGHT
BEGIN:STANDARD
TZOFFSETFROM:+0200
TZOFFSETTO:+0100
TZNAME:CET
DTSTART:20261025T010000
END:STANDARD
END:VTIMEZONE
BEGIN:VEVENT
DTSTART;TZID=Europe/Berlin:20251021T090000
DTEND;TZID=Europe/Berlin:20251022T163000
DTSTAMP:20260423T005108
CREATED:20250930T185653Z
LAST-MODIFIED:20250930T185653Z
UID:2365-1761037200-1761150600@therabor.de
SUMMARY:Bindegewebsphysiologie in der Sportphysiotherapie in Faak am See
DESCRIPTION:Direktlink zum Anbieter: https://www.spt-education.de/lehrgangsorte/klagenfurt__faak_am_see/ \nGrundlagen physiotherapeutischen Handelns: Gewebe verstehen\, untersuchen und behandeln. \nDieser Kurs behandelt die Grundlagen physiotherapeutischer Beurteilung klinischer Bilder mit Fokus auf hormonelle und neurovegetative Einflüsse. \nEin wesentlicher Bestandteil ist das Verständnis des Bindegewebes und seiner Veränderungsmechanismen. \nThemen sind der Aufbau\, die Heilungskapazität und Wund­heilungsprozesse des Bindegewebes. \nZiel ist es\, Unterschiede der Gewebearten zu erkennen und negative Einflussfaktoren zu beeinflussen
URL:https://therabor.de/event/bindegewebsphysiologie-in-der-sportphysiotherapie-in-faak-am-see/
LOCATION:SPT education Faak am See\, Halbinselstrasse 14\, Faak am See\, 9583\, Österreich
CATEGORIES:Österreich,Team Therabor
ATTACH;FMTTYPE=image/jpeg:https://therabor.de/wp-content/uploads/2024/05/therabor-3084-1.jpg
END:VEVENT
END:VCALENDAR