BEGIN:VCALENDAR
VERSION:2.0
PRODID:-//Physiotherapie - ECPv6.15.20//NONSGML v1.0//EN
CALSCALE:GREGORIAN
METHOD:PUBLISH
X-ORIGINAL-URL:https://therabor.de
X-WR-CALDESC:Veranstaltungen für Physiotherapie
REFRESH-INTERVAL;VALUE=DURATION:PT1H
X-Robots-Tag:noindex
X-PUBLISHED-TTL:PT1H
BEGIN:VTIMEZONE
TZID:Europe/Berlin
BEGIN:DAYLIGHT
TZOFFSETFROM:+0100
TZOFFSETTO:+0200
TZNAME:CEST
DTSTART:20230326T010000
END:DAYLIGHT
BEGIN:STANDARD
TZOFFSETFROM:+0200
TZOFFSETTO:+0100
TZNAME:CET
DTSTART:20231029T010000
END:STANDARD
BEGIN:DAYLIGHT
TZOFFSETFROM:+0100
TZOFFSETTO:+0200
TZNAME:CEST
DTSTART:20240331T010000
END:DAYLIGHT
BEGIN:STANDARD
TZOFFSETFROM:+0200
TZOFFSETTO:+0100
TZNAME:CET
DTSTART:20241027T010000
END:STANDARD
BEGIN:DAYLIGHT
TZOFFSETFROM:+0100
TZOFFSETTO:+0200
TZNAME:CEST
DTSTART:20250330T010000
END:DAYLIGHT
BEGIN:STANDARD
TZOFFSETFROM:+0200
TZOFFSETTO:+0100
TZNAME:CET
DTSTART:20251026T010000
END:STANDARD
END:VTIMEZONE
BEGIN:VEVENT
DTSTART;TZID=Europe/Berlin:20241125T080000
DTEND;TZID=Europe/Berlin:20241127T120000
DTSTAMP:20260423T203029
CREATED:20240227T192518Z
LAST-MODIFIED:20240507T162025Z
UID:1890-1732521600-1732708800@therabor.de
SUMMARY:Klinische Diagnostik in der Sportphysiotherapie in Salzburg
DESCRIPTION:Dieser Lehrgang ist Teil des Masterstudiums der Universität Salzburg und beschäftigt sich mit sportspezifischen Untersuchungsmethoden\, die in der Betreuung von Sportlern zur Anwendung kommen. An diesem Lehrgang können Sie nur teilnehmen\, wenn Sie im Masterstudium „sportsphysiotherapy“ in Salzburg immatrikuliert sind. \n  \nBuchung: Direktlink Veranstalter
URL:https://therabor.de/event/klinische-diagnostik-in-der-sportphysiotherapie/
LOCATION:Paris Lodron Universität Salzburg\, Kapitelgasse 4-6\, Salzburg\, 5020
CATEGORIES:Österreich,Team Therabor
ATTACH;FMTTYPE=image/jpeg:https://therabor.de/wp-content/uploads/2024/02/Therabor_0815_028.jpg
ORGANIZER;CN="Max Ebert":MAILTO:info@therabor.de
END:VEVENT
END:VCALENDAR