BEGIN:VCALENDAR
VERSION:2.0
PRODID:-//Physiotherapie - ECPv6.15.20//NONSGML v1.0//EN
CALSCALE:GREGORIAN
METHOD:PUBLISH
X-WR-CALNAME:Physiotherapie
X-ORIGINAL-URL:https://therabor.de
X-WR-CALDESC:Veranstaltungen für Physiotherapie
REFRESH-INTERVAL;VALUE=DURATION:PT1H
X-Robots-Tag:noindex
X-PUBLISHED-TTL:PT1H
BEGIN:VTIMEZONE
TZID:Europe/Berlin
BEGIN:DAYLIGHT
TZOFFSETFROM:+0100
TZOFFSETTO:+0200
TZNAME:CEST
DTSTART:20230326T010000
END:DAYLIGHT
BEGIN:STANDARD
TZOFFSETFROM:+0200
TZOFFSETTO:+0100
TZNAME:CET
DTSTART:20231029T010000
END:STANDARD
BEGIN:DAYLIGHT
TZOFFSETFROM:+0100
TZOFFSETTO:+0200
TZNAME:CEST
DTSTART:20240331T010000
END:DAYLIGHT
BEGIN:STANDARD
TZOFFSETFROM:+0200
TZOFFSETTO:+0100
TZNAME:CET
DTSTART:20241027T010000
END:STANDARD
BEGIN:DAYLIGHT
TZOFFSETFROM:+0100
TZOFFSETTO:+0200
TZNAME:CEST
DTSTART:20250330T010000
END:DAYLIGHT
BEGIN:STANDARD
TZOFFSETFROM:+0200
TZOFFSETTO:+0100
TZNAME:CET
DTSTART:20251026T010000
END:STANDARD
END:VTIMEZONE
BEGIN:VEVENT
DTSTART;TZID=Europe/Berlin:20240823T163000
DTEND;TZID=Europe/Berlin:20240824T235900
DTSTAMP:20260424T020010
CREATED:20240227T183957Z
LAST-MODIFIED:20240507T162811Z
UID:1865-1724430600-1724543940@therabor.de
SUMMARY:Bindegewebsphysiologie und Wundheilung im Sport in Malente
DESCRIPTION:In diesem Lehrgang werden die Grundlagen der Bindegewebsphysiologie mit dem Schwerpunkt Sportphysiotherapie vermittelt. Weitere Schwerpunkte: \n  \nWundheilung \nphysiologischer- und pathologischer Schmerz \nspezifische Betrachtung von Einflüssen auf Belastung und Belastbarkeit von Geweben \nspezielle Physiologie einzelner Gewebetypen \n  \nBuchung: Direktlink Veranstalter
URL:https://therabor.de/event/bindegewebsphysiologie-und-wundheilung/
LOCATION:SPT education Malente\, Eutiner Straße 45\, Bad Malente - Gremsmühlen\, 23714\, Deutschland
CATEGORIES:Deutschland,Team Therabor
ATTACH;FMTTYPE=image/jpeg:https://therabor.de/wp-content/uploads/2024/02/Therabor_0815_029.jpg
END:VEVENT
END:VCALENDAR