BEGIN:VCALENDAR
VERSION:2.0
PRODID:-//Physiotherapie - ECPv6.15.20//NONSGML v1.0//EN
CALSCALE:GREGORIAN
METHOD:PUBLISH
X-WR-CALNAME:Physiotherapie
X-ORIGINAL-URL:https://therabor.de
X-WR-CALDESC:Veranstaltungen für Physiotherapie
REFRESH-INTERVAL;VALUE=DURATION:PT1H
X-Robots-Tag:noindex
X-PUBLISHED-TTL:PT1H
BEGIN:VTIMEZONE
TZID:Europe/Berlin
BEGIN:DAYLIGHT
TZOFFSETFROM:+0100
TZOFFSETTO:+0200
TZNAME:CEST
DTSTART:20230326T010000
END:DAYLIGHT
BEGIN:STANDARD
TZOFFSETFROM:+0200
TZOFFSETTO:+0100
TZNAME:CET
DTSTART:20231029T010000
END:STANDARD
BEGIN:DAYLIGHT
TZOFFSETFROM:+0100
TZOFFSETTO:+0200
TZNAME:CEST
DTSTART:20240331T010000
END:DAYLIGHT
BEGIN:STANDARD
TZOFFSETFROM:+0200
TZOFFSETTO:+0100
TZNAME:CET
DTSTART:20241027T010000
END:STANDARD
BEGIN:DAYLIGHT
TZOFFSETFROM:+0100
TZOFFSETTO:+0200
TZNAME:CEST
DTSTART:20250330T010000
END:DAYLIGHT
BEGIN:STANDARD
TZOFFSETFROM:+0200
TZOFFSETTO:+0100
TZNAME:CET
DTSTART:20251026T010000
END:STANDARD
END:VTIMEZONE
BEGIN:VEVENT
DTSTART;TZID=Europe/Berlin:20240614T090000
DTEND;TZID=Europe/Berlin:20240616T153000
DTSTAMP:20260424T052404
CREATED:20240223T162614Z
LAST-MODIFIED:20240507T162949Z
UID:1752-1718355600-1718551800@therabor.de
SUMMARY:Osteopathie im Sport in Ulm
DESCRIPTION:Lehrgangsinhalte\n„Leben ist Bewegung“ ist Ziel und Grundlage des osteopathischen Gedankens – und was liegt hier näher als bei Bewegung direkt an das Thema Sportphysiotherapie zu denken. Unsere langjährigen Erfahrungen in der Fortbildung von Sportphysiotherapeuten und unsere Philosophie stets das aktuelle Wissen zur bestmöglichen Versorgung des Patienten zu vermitteln\, haben uns dazu gebracht\, das Seminar „Osteopathie im Sport“ zu etablieren. Gerade im Spitzensport wird zunehmend mit osteopathischen Techniken gearbeitet und dies nicht nur zur Rehabilitation des Sportlers sondern auch im Bereich der Prävention und der Leistungssteigerung. \nDas Seminar „Osteopathie im Sport“ ist für diejenigen geeignet\, die sinnvolle und wirkungsvolle Osteopathische Techniken im Sport erlernen und einsetzen möchten\, ohne direkt eine langjährige Ausbildung belegen zu müssen. Es bietet in der Arbeit mit dem Sportler und Patienten die Möglichkeit auch auf osteopathische Diagnoseverfahren und Behandlungstechniken zurückgreifen zu können und diese wirkungsvoll einzusetzen. \n\nInhaltsübersicht\n\nBlock 1:• Einführung und Übersicht – Osteopathie• Osteopathie ein integrativer Therapieansatz• Wie stellen sich funktionelle Störungen dar\, wie sind sie auszutesten und wie zu behandeln• Osteopathischer Befund• Behandlungsansätze der Füße\, Becken und HWS• Die transversalen Diaphragmen und ihre Behandlungstechniken• Mit viszeraler Osteopathie erfolgreich Restriktionen behandeln mit dem Ziel einer intakten Mobilität und Motilität der inneren Organe.\n\n  \nBuchung: Direktlink Veranstalter
URL:https://therabor.de/event/osteopathie-im-sport/
LOCATION:ulmkolleg Ulm\, Oberberghof 5\, Ulm\, 89081\, Deutschland
CATEGORIES:Deutschland
ATTACH;FMTTYPE=image/jpeg:https://therabor.de/wp-content/uploads/2015/09/Physiopraxis_Essen_016-e1487591986143.jpg
END:VEVENT
END:VCALENDAR