BEGIN:VCALENDAR
VERSION:2.0
PRODID:-//Physiotherapie - ECPv6.15.20//NONSGML v1.0//EN
CALSCALE:GREGORIAN
METHOD:PUBLISH
X-WR-CALNAME:Physiotherapie
X-ORIGINAL-URL:https://therabor.de
X-WR-CALDESC:Veranstaltungen für Physiotherapie
REFRESH-INTERVAL;VALUE=DURATION:PT1H
X-Robots-Tag:noindex
X-PUBLISHED-TTL:PT1H
BEGIN:VTIMEZONE
TZID:Europe/Berlin
BEGIN:DAYLIGHT
TZOFFSETFROM:+0100
TZOFFSETTO:+0200
TZNAME:CEST
DTSTART:20250330T010000
END:DAYLIGHT
BEGIN:STANDARD
TZOFFSETFROM:+0200
TZOFFSETTO:+0100
TZNAME:CET
DTSTART:20251026T010000
END:STANDARD
BEGIN:DAYLIGHT
TZOFFSETFROM:+0100
TZOFFSETTO:+0200
TZNAME:CEST
DTSTART:20260329T010000
END:DAYLIGHT
BEGIN:STANDARD
TZOFFSETFROM:+0200
TZOFFSETTO:+0100
TZNAME:CET
DTSTART:20261025T010000
END:STANDARD
BEGIN:DAYLIGHT
TZOFFSETFROM:+0100
TZOFFSETTO:+0200
TZNAME:CEST
DTSTART:20270328T010000
END:DAYLIGHT
BEGIN:STANDARD
TZOFFSETFROM:+0200
TZOFFSETTO:+0100
TZNAME:CET
DTSTART:20271031T010000
END:STANDARD
END:VTIMEZONE
BEGIN:VEVENT
DTSTART;TZID=Europe/Berlin:20261001T110000
DTEND;TZID=Europe/Berlin:20261004T160000
DTSTAMP:20260423T000321
CREATED:20250930T104820Z
LAST-MODIFIED:20250930T195552Z
UID:2359-1790852400-1791129600@therabor.de
SUMMARY:Komplementäre Physiotherapeutische Medizin Klinische Bilder Knie/Fuß/Niere/Nebenniere in Linz
DESCRIPTION:Direktlink zum Veranstalter: https://kursprogramm.fortbildungsakademie.at/Kurs/KPM-Aufbaukurs-Klinische-Bilder-Knie-Fuss-26/ \nKPM-KOMPLEMENTÄRE PHYSIOTHERAPEUTISCHE MEDIZIN\nAUFBAUKURS – Klinische Bilder Knie und Fuß \nVoraussetzung:  \n\nKPM – Komplementäre Physiotherapeutische Medizin – Grundkurs Osteopathie der Organsysteme \nKPM – Komplementäre Physiotherapeutische Medizin – Grundkurs Symbiose westlicher und östlicher Medizin\n\n  \nAnhand eines Fallbeispiels werden Strategien entwickelt\, welche umliegenden Strukturen der jeweiligen Gelenke Einfluss auf das entsprechende Gelenk haben können.  \n  \nFolgend werden besagte Gelenke manualtherapeutisch befundet; um daraufhin eine therapeutische Hypothese zu erstellen. Hierbei fließen die Bereiche Osteopathie\, orthomolekulare Medizin\, Komplementärmedizin und Schulmedizin ineinander. Exemplarisch werden Techniken der Befundung und Behandlung von Niere und Nebenniere präsentiert und in einen Zusammenhang zu den funktionalen Ketten des entsprechenden Meridianverlaufes gebracht. Physiologie der Stressachse gehen hierbei einher mit der Befundung und Behandlung der zugehörigen Reflexzonen in Ohr und Fuß. \nDie KPM vermittelt neben dem diagnostischen “Handwerkszeug“ auch das übergreifende behandlungsstrategische Konzept\, weil die KPM praxiserprobte physiotherapeutische Ansätze mehrerer Konzepte mit komplementärmedizinischen Diagnostik- und Therapieverfahren miteinander verbindet. \nErweitere deine therapeutische Kompetenz durch den KPM- Klinischen Kurs KNIE UND FUSS!
URL:https://therabor.de/event/komplementaere-physiotherapeutische-medizin-klinische-bilder-knie-fuss-niere-nebenniere-linz/
LOCATION:fba Fortbildungsakademie Linz\, Scharitzer Straße 8\, Linz\, 4020\, Österreich
CATEGORIES:Österreich,Team Therabor
ATTACH;FMTTYPE=image/jpeg:https://therabor.de/wp-content/uploads/2024/03/Therabor_0815_003.jpg
END:VEVENT
END:VCALENDAR