BEGIN:VCALENDAR
VERSION:2.0
PRODID:-//Physiotherapie - ECPv6.15.20//NONSGML v1.0//EN
CALSCALE:GREGORIAN
METHOD:PUBLISH
X-WR-CALNAME:Physiotherapie
X-ORIGINAL-URL:https://therabor.de
X-WR-CALDESC:Veranstaltungen für Physiotherapie
REFRESH-INTERVAL;VALUE=DURATION:PT1H
X-Robots-Tag:noindex
X-PUBLISHED-TTL:PT1H
BEGIN:VTIMEZONE
TZID:Europe/Berlin
BEGIN:DAYLIGHT
TZOFFSETFROM:+0100
TZOFFSETTO:+0200
TZNAME:CEST
DTSTART:20250330T010000
END:DAYLIGHT
BEGIN:STANDARD
TZOFFSETFROM:+0200
TZOFFSETTO:+0100
TZNAME:CET
DTSTART:20251026T010000
END:STANDARD
BEGIN:DAYLIGHT
TZOFFSETFROM:+0100
TZOFFSETTO:+0200
TZNAME:CEST
DTSTART:20260329T010000
END:DAYLIGHT
BEGIN:STANDARD
TZOFFSETFROM:+0200
TZOFFSETTO:+0100
TZNAME:CET
DTSTART:20261025T010000
END:STANDARD
BEGIN:DAYLIGHT
TZOFFSETFROM:+0100
TZOFFSETTO:+0200
TZNAME:CEST
DTSTART:20270328T010000
END:DAYLIGHT
BEGIN:STANDARD
TZOFFSETFROM:+0200
TZOFFSETTO:+0100
TZNAME:CET
DTSTART:20271031T010000
END:STANDARD
END:VTIMEZONE
BEGIN:VEVENT
DTSTART;VALUE=DATE:20260328
DTEND;VALUE=DATE:20260329
DTSTAMP:20260422T145137
CREATED:20250930T211353Z
LAST-MODIFIED:20250930T211353Z
UID:2382-1774656000-1774742399@therabor.de
SUMMARY:Komplementäre Physiotherapeutische Medizin Physiotherapie meets Bindegewebe online Teil 2 bei der FOBIZE
DESCRIPTION:Direktlink zum Veranstalter; https://www.fobize.de/de/kurs?kursnummer=HB26871&kennung=159432000 \n** Physiotherapie meets Bindegewebe – ONLINE SEMINAR** \nGrundlagen physiotherapeutischen Handelns (Gewebe verstehen\, untersuchen und behandeln) (2 Tage).\nDer Kurs ist ein Online Seminar. Er wird an zwei Tagen unterrichtet\, ist aber immer so geplant\, dass Tag 1 mindestens im Abstand von einer Woche zu Tag 2 steht. Wir unterrichten jeweils 2 mal 4 Stunden.\nTeil des Skripts ist das Buch Angewandte Bindegewebsphysiologie Band 1 von Frans van den Berg\, erschienen im Georg Thieme Verlag. Der Teilnehmer erhält nach Buchung ein Exemplar dieses Buches auf dem Postweg zugesandt. Das Buch ist im Kurspreis inbegriffen und ein wichtiges Standardwerk für die gesamte Reihe KPM.\n(dieser Kurs muss nicht belegt werden\, wenn der Teilnehmer nachweisen kann\, dass er in der Vergangenheit bei der SPT education oder an anderer Stelle einen Bindegewebskurs absolviert hat) \nIn diesem Seminar geht es vornehmlich um Grundlagen physiotherapeutischer Beurteilung von klinischen Bildern. Hierfür ist ein systemischer Betrachtungsansatz essenziell.\nViele Beschwerdebilder werden unter anderem stark beeinflusst von hormonellen und neurovegetativen Regelkreisen. Diese zu erkennen und zu verstehen ist ein wichtiger Anteil dieses Kurses.\nIn der täglichen Praxis behandeln und beeinflussen wir ständig das Bindegewebe des Menschen\, deshalb gehört es zu den wichtigsten Skills in diesem Beruf\, dieses Gewebe genau zu kennen und seine spezifischen Veränderungsmechanismen zu begreifen. Ein Teil des Seminars ist dann auch die physiologische Grundlage des Aufbaus von Bindegewebe. \nDaraus ergibt sich unweigerlich die Lehre über die Kenntnis der Heilungskapazität von diesem Gewebekomplex. Wundheilungsprozesse und deren Beeinflussung durch unsere Therapie sind unser tägliches Brot.\nEs wäre doch fantastisch\, zu jedem Zeitpunkt genau zu wissen\, in welcher Situation sich das Gewebe gerade befindet. Welche negativen Einflussfaktoren gibt es und wie erkenne ich sie und wie kann ich sie beeinflussen. Jedes spezifische Gewebe funktioniert unterschiedlich. Die Kenntnis über eben diese Unterschiede sind Ziele dieses Lehrgangs. \nLasst uns physiotherapeutischen Handeln logischer gestalten. Das lernt ihr in diesem Kurs.
URL:https://therabor.de/event/komplementaere-physiotherapeutische-medizin-physiotherapie-meets-bindegewebe-online-teil-2-bei-der-fobize/
LOCATION:FobiZE Bremen\, Westerstraße 35\, Bremen\, 28199\, Germany
CATEGORIES:Deutschland,Team Therabor
ATTACH;FMTTYPE=image/jpeg:https://therabor.de/wp-content/uploads/2024/05/therabor-3084-1.jpg
END:VEVENT
END:VCALENDAR