BEGIN:VCALENDAR
VERSION:2.0
PRODID:-//Physiotherapie - ECPv6.15.20//NONSGML v1.0//EN
CALSCALE:GREGORIAN
METHOD:PUBLISH
X-ORIGINAL-URL:https://therabor.de
X-WR-CALDESC:Veranstaltungen für Physiotherapie
REFRESH-INTERVAL;VALUE=DURATION:PT1H
X-Robots-Tag:noindex
X-PUBLISHED-TTL:PT1H
BEGIN:VTIMEZONE
TZID:Europe/Berlin
BEGIN:DAYLIGHT
TZOFFSETFROM:+0100
TZOFFSETTO:+0200
TZNAME:CEST
DTSTART:20240331T010000
END:DAYLIGHT
BEGIN:STANDARD
TZOFFSETFROM:+0200
TZOFFSETTO:+0100
TZNAME:CET
DTSTART:20241027T010000
END:STANDARD
BEGIN:DAYLIGHT
TZOFFSETFROM:+0100
TZOFFSETTO:+0200
TZNAME:CEST
DTSTART:20250330T010000
END:DAYLIGHT
BEGIN:STANDARD
TZOFFSETFROM:+0200
TZOFFSETTO:+0100
TZNAME:CET
DTSTART:20251026T010000
END:STANDARD
BEGIN:DAYLIGHT
TZOFFSETFROM:+0100
TZOFFSETTO:+0200
TZNAME:CEST
DTSTART:20260329T010000
END:DAYLIGHT
BEGIN:STANDARD
TZOFFSETFROM:+0200
TZOFFSETTO:+0100
TZNAME:CET
DTSTART:20261025T010000
END:STANDARD
END:VTIMEZONE
BEGIN:VEVENT
DTSTART;TZID=Europe/Berlin:20251212T110000
DTEND;TZID=Europe/Berlin:20251214T150000
DTSTAMP:20260422T201751
CREATED:20240507T171248Z
LAST-MODIFIED:20240507T171248Z
UID:2160-1765537200-1765724400@therabor.de
SUMMARY:Komplementäre Physiotherapeutische Medizin Klinischer Kurs Ellenbogen/Hand in Linz
DESCRIPTION:Direktlink zum Veranstalter: https://fortbildungsakademie.at \nBeschwerdebilder im Bereich von Ellenbogen und Hand sind tendenziell häufig von Chronifizierungen betroffen\, entsprechend wichtig ist es in diesem Seminar den Fokus auf die Entstehung einer solchen Chronifizierung zu legen. Um sich dieser Thematik zu nähern\, ist die Kenntnis über Entstehung von Schmerzsymptomen essenziell. Sehr häufig entwickelt sich aus einer solchen Veränderung ein erhöhter Input aus dem vegetativen Nervensystem. Wie man diese Entwicklungen erkennt und sie in die therapeutischen Lösungsprozesse einfließen zu lassen ist Teil dieses Seminars. Nicht selten ergibt sich aus solchen Beschwerdebildern auch eine Beeinflussung von energetischen und organischen Veränderungen. In diesem Kurs wird exemplarisch das System Duodenum und Dünndarm besprochen. \n\nDie KPM vermittelt dir neben dem diagnostischen “Handwerkszeug“ auch das übergreifende behandlungsstrategische Konzept\, weil die KPM praxiserprobte physiotherapeutische Ansätze mehrerer Konzepte mit komplementärmedizinischen Diagnostik- und Therapieverfahren miteinander verbindet. \n\nErweitere deine therapeutische Kompetenz durch den KPM- Klinischen Kurs ELLENBOGEN UND HAND
URL:https://therabor.de/event/komplementaere-physiotherapeutische-medizin-klinischer-kurs-ellenbogen-hand-in-linz/
LOCATION:fba Fortbildungsakademie Linz\, Scharitzer Straße 8\, Linz\, 4020\, Österreich
CATEGORIES:Österreich,Team Therabor
ATTACH;FMTTYPE=image/jpeg:https://therabor.de/wp-content/uploads/2024/02/Therabor_0815_028.jpg
END:VEVENT
END:VCALENDAR