BEGIN:VCALENDAR
VERSION:2.0
PRODID:-//Physiotherapie - ECPv6.15.20//NONSGML v1.0//EN
CALSCALE:GREGORIAN
METHOD:PUBLISH
X-ORIGINAL-URL:https://therabor.de
X-WR-CALDESC:Veranstaltungen für Physiotherapie
REFRESH-INTERVAL;VALUE=DURATION:PT1H
X-Robots-Tag:noindex
X-PUBLISHED-TTL:PT1H
BEGIN:VTIMEZONE
TZID:Europe/Berlin
BEGIN:DAYLIGHT
TZOFFSETFROM:+0100
TZOFFSETTO:+0200
TZNAME:CEST
DTSTART:20240331T010000
END:DAYLIGHT
BEGIN:STANDARD
TZOFFSETFROM:+0200
TZOFFSETTO:+0100
TZNAME:CET
DTSTART:20241027T010000
END:STANDARD
BEGIN:DAYLIGHT
TZOFFSETFROM:+0100
TZOFFSETTO:+0200
TZNAME:CEST
DTSTART:20250330T010000
END:DAYLIGHT
BEGIN:STANDARD
TZOFFSETFROM:+0200
TZOFFSETTO:+0100
TZNAME:CET
DTSTART:20251026T010000
END:STANDARD
BEGIN:DAYLIGHT
TZOFFSETFROM:+0100
TZOFFSETTO:+0200
TZNAME:CEST
DTSTART:20260329T010000
END:DAYLIGHT
BEGIN:STANDARD
TZOFFSETFROM:+0200
TZOFFSETTO:+0100
TZNAME:CET
DTSTART:20261025T010000
END:STANDARD
END:VTIMEZONE
BEGIN:VEVENT
DTSTART;TZID=Europe/Berlin:20251009T110000
DTEND;TZID=Europe/Berlin:20251012T163000
DTSTAMP:20260423T000726
CREATED:20241017T082507Z
LAST-MODIFIED:20250930T200110Z
UID:2295-1760007600-1760286600@therabor.de
SUMMARY:Komplementäre Physiotherapeutische Medizin Basiskurs Viszerale Osteopathie in Klagenfurt
DESCRIPTION:Direktlink zum Veranstalter: \nhttps://www.fbz-klagenfurt.at/lehrgaenge/detail/kpm-osteopathie-der-organsysteme-grundlagenlehrgang-2 \n  \nDieses Seminar ist wichtig für das Grundverständnis der komplementären Physiotherapie und deshalb ein Pflichtseminar für die Buchung von Aufbauseminaren = klinischen Lehrgängen\nDie osteopathische Diagnostik und Behandlung des Verdauungs- und Urogenitaltrakts\, ein wichtiger Baustein der komplementären Medizin. (4 Tage)\n\nEinführung viscerale Osteopathie\n\nDie Niere legt täglich einen Weg von ca. 600 Metern zurück. Bei einer\, z.B. nach Nierenbeckenentzündung\, entstandenen cranialen Fixation wird das Diapragma thorakale den Druck auf die Niere gering halten. Dadurch erhöht sich die thorakale Atmung und die Aktivität der Atemhilfsmuskulatur. Daraus folgt eine Spannungszunahme der Halsmuskulatur. Die Folge kann eine Kompression des N. occipitalis major sein\, die dann verantwortlich für cervicalen Kopfschmerz ist. Dieses Beispiel macht deutlich\, wie wichtig es ist die „Primärläsionen“ zu finden. Die ausschließliche Behandlung der Halsfascie wird in diesem Beispiel nicht ausreichend sein.\n\nZiel des Lehrganges ist also\, den Teilnehmer:innenzu einer Kausaltherapie anzuleiten und die viscerale Betrachtung in das klinische Patientenmanagement einzubeziehen. Der Schwerpunkt liegt auf der topographischen Anatomie mit kurzer Einführung in die Organphysiologie sowie den wichtigsten organspezifischen Untersuchungsmöglichkeiten.\n\nDie detaillierte Physiologie der Organe und die entsprechenden physiotherapeutischen und osteopathischen Behandlungsmöglichkeiten sind Thema der Aufbaukurse.\n\nBiomechanik\npathologisch klinische Konsequenzen\nneurologisch klinische Konsequenzen\nenergetisch klinische Konsequenzen
URL:https://therabor.de/event/komplementaere-physiotherapeutische-medizin-basiskurs-viszerale-osteopathie/
LOCATION:FBZ Klagenfurt\, Waaggasse 18\, Klagenfurt\, 9020\, Österreich
CATEGORIES:Österreich,Team Therabor
ATTACH;FMTTYPE=image/jpeg:https://therabor.de/wp-content/uploads/2024/05/therabor-3156.jpg
END:VEVENT
BEGIN:VEVENT
DTSTART;TZID=Europe/Berlin:20251024T090000
DTEND;TZID=Europe/Berlin:20251025T163000
DTSTAMP:20260423T000726
CREATED:20240507T170918Z
LAST-MODIFIED:20240507T170918Z
UID:2158-1761296400-1761409800@therabor.de
SUMMARY:Komplementäre Physiotherapeutische Medizin Klinischer Kurs Kiefergelenk in Linz
DESCRIPTION:Direktlink zum Veranstalter: https://fortbildungsakademie.at \nDie Anzahl der CMD-Patienten\, die professionelle Hilfe suchen\, nimmt in der täglichen Praxis stetig zu. Da die Diagnose „CMD“ nur einen Überbegriff für strukturelle-\, biochemische und psychische Fehlregulationen der Muskel- oder Gelenkfunktion darstellt\, lernst du in diesem zweitägigen Seminar das Kiefergelenk und seine direkt beteiligten Strukturen sicher zu befunden\, zu untersuchen und zu behandeln. \n\nDie KPM vermittelt dir neben dem diagnostischen “Handwerkszeug“ auch das übergreifende behandlungsstrategische Konzept\, weil die KPM praxiserprobte physiotherapeutische Ansätze mehrerer Konzepte mit komplementärmedizinischen Diagnostik- und Therapieverfahren miteinander verbindet. \n\nErweitere deine therapeutische Kompetenz durch den KPM- Klinischen Kurs KIEFERGELENK
URL:https://therabor.de/event/komplementaere-physiotherapeutische-medizin-klinischer-kurs-kiefergelenk-in-linz/
LOCATION:fba Fortbildungsakademie Linz\, Scharitzer Straße 8\, Linz\, 4020\, Österreich
CATEGORIES:Österreich,Team Therabor
ATTACH;FMTTYPE=image/jpeg:https://therabor.de/wp-content/uploads/2024/02/istockphoto-1184545306-1024x1024-1.jpg
END:VEVENT
END:VCALENDAR