BEGIN:VCALENDAR
VERSION:2.0
PRODID:-//Physiotherapie - ECPv6.15.20//NONSGML v1.0//EN
CALSCALE:GREGORIAN
METHOD:PUBLISH
X-ORIGINAL-URL:https://therabor.de
X-WR-CALDESC:Veranstaltungen für Physiotherapie
REFRESH-INTERVAL;VALUE=DURATION:PT1H
X-Robots-Tag:noindex
X-PUBLISHED-TTL:PT1H
BEGIN:VTIMEZONE
TZID:Europe/Berlin
BEGIN:DAYLIGHT
TZOFFSETFROM:+0100
TZOFFSETTO:+0200
TZNAME:CEST
DTSTART:20240331T010000
END:DAYLIGHT
BEGIN:STANDARD
TZOFFSETFROM:+0200
TZOFFSETTO:+0100
TZNAME:CET
DTSTART:20241027T010000
END:STANDARD
BEGIN:DAYLIGHT
TZOFFSETFROM:+0100
TZOFFSETTO:+0200
TZNAME:CEST
DTSTART:20250330T010000
END:DAYLIGHT
BEGIN:STANDARD
TZOFFSETFROM:+0200
TZOFFSETTO:+0100
TZNAME:CET
DTSTART:20251026T010000
END:STANDARD
BEGIN:DAYLIGHT
TZOFFSETFROM:+0100
TZOFFSETTO:+0200
TZNAME:CEST
DTSTART:20260329T010000
END:DAYLIGHT
BEGIN:STANDARD
TZOFFSETFROM:+0200
TZOFFSETTO:+0100
TZNAME:CET
DTSTART:20261025T010000
END:STANDARD
END:VTIMEZONE
BEGIN:VEVENT
DTSTART;TZID=Europe/Berlin:20250410T110000
DTEND;TZID=Europe/Berlin:20250413T153000
DTSTAMP:20260423T101406
CREATED:20240317T192332Z
LAST-MODIFIED:20240507T161538Z
UID:2071-1744282800-1744558200@therabor.de
SUMMARY:Komplementäre Physiotherapeutische Medizin Viszerale Osteopathie in Linz
DESCRIPTION:  \nDirektlink Veranstalter https://kursprogramm.fortbildungsakademie.at/KursInfoView?uid=269&guid=28e16f44-dcd5-48ba-920d-39a11af3ad49&KursID=KPM-Grundlehrgang—Viszerale-Osteopathie \n  \nViele Patient:innen klagen über Beschwerden am Bewegungsapparat. Nicht zu vergessen sind – insbes. bei therapieresistenten Schmerzen – auch pathogene Co-Faktoren\, die auf Funktionsstörungen innerer Organe zurückgeführt werden können. Der Kursinhalt umfasst: \n  \n\nAnatomie\, Physiologie bzw. Pathophysiologie der versch. Organe\nUntersuchung des Viszeralsystems: Gastrointestinal- und Urogenitaltrakt\nZusammenhänge (neuroreflektorisch\, faszial-mechanisch\, biochemisch) innerhalb des Organsystems und deren Auswirkungen auf den Bewegungsapparat…\n\n  \n(Neuroreflektorische Afferenzen viszeraler Strukturen können Schmerzen in Wirbelsäule\, Gelenken und Muskeln projizieren. Mechanisch-faszial kann es durch einen Tonusverlust der Organe\, z.B. aufgrund einer Darmdysbiose\, über deren Aufhängestrukturen zu einer adaptiv geänderten Stellung / Position von Wirbelsäule und Gelenken kommen. Biochemisch-metabolische Störungen der versch. Organsysteme\, z.B. im Säure-Basen-Haushalt\, können die Belastbarkeit von Muskeln\, Sehnen\, Bändern\, Knochen und Gelenken\, sowie deren Regeneration / Heilung herabsetzen.)
URL:https://therabor.de/event/komplementaere-physiotherapeutische-medizin-viszerale-osteopathie/
LOCATION:fba Fortbildungsakademie Linz\, Scharitzer Straße 8\, Linz\, 4020\, Österreich
CATEGORIES:Österreich,Team Therabor
ATTACH;FMTTYPE=image/jpeg:https://therabor.de/wp-content/uploads/2024/02/Therabor-Physiotherapie_002.jpg
END:VEVENT
END:VCALENDAR