BEGIN:VCALENDAR
VERSION:2.0
PRODID:-//Physiotherapie - ECPv6.15.20//NONSGML v1.0//EN
CALSCALE:GREGORIAN
METHOD:PUBLISH
X-ORIGINAL-URL:https://therabor.de
X-WR-CALDESC:Veranstaltungen für Physiotherapie
REFRESH-INTERVAL;VALUE=DURATION:PT1H
X-Robots-Tag:noindex
X-PUBLISHED-TTL:PT1H
BEGIN:VTIMEZONE
TZID:Europe/Berlin
BEGIN:DAYLIGHT
TZOFFSETFROM:+0100
TZOFFSETTO:+0200
TZNAME:CEST
DTSTART:20240331T010000
END:DAYLIGHT
BEGIN:STANDARD
TZOFFSETFROM:+0200
TZOFFSETTO:+0100
TZNAME:CET
DTSTART:20241027T010000
END:STANDARD
BEGIN:DAYLIGHT
TZOFFSETFROM:+0100
TZOFFSETTO:+0200
TZNAME:CEST
DTSTART:20250330T010000
END:DAYLIGHT
BEGIN:STANDARD
TZOFFSETFROM:+0200
TZOFFSETTO:+0100
TZNAME:CET
DTSTART:20251026T010000
END:STANDARD
BEGIN:DAYLIGHT
TZOFFSETFROM:+0100
TZOFFSETTO:+0200
TZNAME:CEST
DTSTART:20260329T010000
END:DAYLIGHT
BEGIN:STANDARD
TZOFFSETFROM:+0200
TZOFFSETTO:+0100
TZNAME:CET
DTSTART:20261025T010000
END:STANDARD
END:VTIMEZONE
BEGIN:VEVENT
DTSTART;TZID=Europe/Berlin:20250213T110000
DTEND;TZID=Europe/Berlin:20250216T153000
DTSTAMP:20260423T130605
CREATED:20240317T193004Z
LAST-MODIFIED:20240507T161717Z
UID:2073-1739444400-1739719800@therabor.de
SUMMARY:Komplementäre Physiotherapeutische Medizin Energetische Medizin in Linz
DESCRIPTION:Direktlink Veranstalter  \n  \nDieser Kurs bietet Einblick in die Anatomie des Meridiansystems und dessen Zusammenhänge. Die Thematik wird weiters vertieft durch folgende Punkte: \n  \n\nErklärungsmodelle aus Biophysik / Biochemie \nEinfluss von Stress auf das Meridiansystem\nBefund- und Behandlungsansätze (Ernährungs-/Kontrollzyklus)\nBesprechung einzelner Tonisierungs- und Sedierungspunkte\nReflextherapeutische Diagnostik und Behandlung (Ohr- und Fußreflexzonen)\nAnsätze von Pathophysiognomik (Gesicht) und Leitbahndiagnostik\nKinesiologie\, vorgestellt als Diagnoseverfahren / zur Lokalisation von Stressoren…\n\n  \n(Ein Versuch\, den Patient:innen ganzheitlich zu untersuchen\, eine Hypothese aus Sicht der Komplementärmedizin zu bilden und schließlich zu behandeln.)
URL:https://therabor.de/event/komplementaere-physiotherapeutische-medizin-energetische-medizin/
LOCATION:fba Fortbildungsakademie Linz\, Scharitzer Straße 8\, Linz\, 4020\, Österreich
CATEGORIES:Österreich
ATTACH;FMTTYPE=image/jpeg:https://therabor.de/wp-content/uploads/2024/02/Therabor_0815_021.jpg
END:VEVENT
END:VCALENDAR