BEGIN:VCALENDAR
VERSION:2.0
PRODID:-//Physiotherapie - ECPv6.15.20//NONSGML v1.0//EN
CALSCALE:GREGORIAN
METHOD:PUBLISH
X-WR-CALNAME:Physiotherapie
X-ORIGINAL-URL:https://therabor.de
X-WR-CALDESC:Veranstaltungen für Physiotherapie
REFRESH-INTERVAL;VALUE=DURATION:PT1H
X-Robots-Tag:noindex
X-PUBLISHED-TTL:PT1H
BEGIN:VTIMEZONE
TZID:Europe/Berlin
BEGIN:DAYLIGHT
TZOFFSETFROM:+0100
TZOFFSETTO:+0200
TZNAME:CEST
DTSTART:20230326T010000
END:DAYLIGHT
BEGIN:STANDARD
TZOFFSETFROM:+0200
TZOFFSETTO:+0100
TZNAME:CET
DTSTART:20231029T010000
END:STANDARD
BEGIN:DAYLIGHT
TZOFFSETFROM:+0100
TZOFFSETTO:+0200
TZNAME:CEST
DTSTART:20240331T010000
END:DAYLIGHT
BEGIN:STANDARD
TZOFFSETFROM:+0200
TZOFFSETTO:+0100
TZNAME:CET
DTSTART:20241027T010000
END:STANDARD
BEGIN:DAYLIGHT
TZOFFSETFROM:+0100
TZOFFSETTO:+0200
TZNAME:CEST
DTSTART:20250330T010000
END:DAYLIGHT
BEGIN:STANDARD
TZOFFSETFROM:+0200
TZOFFSETTO:+0100
TZNAME:CET
DTSTART:20251026T010000
END:STANDARD
END:VTIMEZONE
BEGIN:VEVENT
DTSTART;TZID=Europe/Berlin:20241114T110000
DTEND;TZID=Europe/Berlin:20241117T153000
DTSTAMP:20260423T184702
CREATED:20240227T191826Z
LAST-MODIFIED:20240507T162135Z
UID:1886-1731582000-1731857400@therabor.de
SUMMARY:Komplementäre Physiotherapeutische Medizin Klinischer Kurs HWS in Klagenfurt
DESCRIPTION:Der KPM-Sonderkurs HWS – Kiefergelenk (TMG) – Magen baut auf den in den Grundlagenkursen erworbenen Kenntnissen auf. Dabei wird speziell der Bereich HWS und das damit funktionell verbundene Craniomandibuläre System unter komplementär-physiotherapeutischen Gesichtspunkten betrachtet. Für diese Region spezifische Untersuchungs- und Behandlungstechniken werden aufgezeigt und geübt. Ausgewählte Fallbeispiele demonstrieren die klinische Vorgehensweise bei Patienten mit Beschwerden im Kopf- Hals- und Nackenbereich. Neurovegetative und faszial-biomechanische Vernetzungen mit den Viszeralorganen (im besonderen mit dem Magen) werden in das physiotherapeutische Gesamtassessment integriert. Energetische Aspekte (aus Applied Kinesiology / Meridianverbindungen / Reflexzonen und MAPS – Mikroakupunktursystemen) runden das 4-tägige Programm ab. Der Teilnehmer erhält dadurch eine ganzheitliche Betrachtungsweise und lernt\, die Inhalte systematisch in ein Gesamtmanagement bei seinen Patienten anzuwenden. \n  \nBuchung: Direktlink Veranstalter
URL:https://therabor.de/event/kpm-sonderkurs-hws-magen/
LOCATION:FBZ Klagenfurt\, Waaggasse 18\, Klagenfurt\, 9020\, Österreich
CATEGORIES:Österreich
ATTACH;FMTTYPE=image/jpeg:https://therabor.de/wp-content/uploads/2024/02/Therabor_0815_018.jpg
END:VEVENT
BEGIN:VEVENT
DTSTART;TZID=Europe/Berlin:20241128T110000
DTEND;TZID=Europe/Berlin:20241201T153000
DTSTAMP:20260423T184702
CREATED:20240227T192724Z
LAST-MODIFIED:20240507T161951Z
UID:1892-1732791600-1733067000@therabor.de
SUMMARY:Komplementäre Physiotherapeutische Medizin Klinischer Kurs Knie/Fuß in Linz
DESCRIPTION:Dieser Kurs erweitert das – in den Grundlagen-Kursen (Viszerale Osteopathie (VO) + Energetische-Reflex-Therapie (ERT) – erworbene Wissen und vertieft durch folgende Schwerpunkte: \n  \n\nKniegelenk + Fußgelenke\nspezifische Untersuchungs- und Behandlungstechniken für entsprechende Region\nVO: neuro-vegetative + faszial-mechanische Zusammenhänge – insbes. von „Niere / Nebenniere“ – werden berücksichtigt\nERT: energetische Aspekte (Reflexzonen\, Meridiane\, Hinweise aus Diätetik und Kinesiologie) werden wiederholt\nFallbeispiele: demonstrieren die klinische Vorgehensweise bei Patient:innen mit Beschwerden im Knie- und Fußbereich\n\n  \nDie Teilnehmer:innen erhalten hinsichtlich Untersuchung\, Hypothesenbildung und therapeutische Maßnahmen eine ganzheitliche Betrachtungsweise und können die Inhalte durch gezieltes Klinisches Patientenmanagement anwenden. \n  \nBuchung: Direktlink Veranstalter
URL:https://therabor.de/event/kpm-sonderkurs-knie-fuss-2/
LOCATION:fba Fortbildungsakademie Linz\, Scharitzer Straße 8\, Linz\, 4020\, Österreich
CATEGORIES:Österreich
ATTACH;FMTTYPE=image/jpeg:https://therabor.de/wp-content/uploads/2024/03/Therabor_0815_013.jpg
END:VEVENT
END:VCALENDAR