BEGIN:VCALENDAR
VERSION:2.0
PRODID:-//Physiotherapie - ECPv6.15.20//NONSGML v1.0//EN
CALSCALE:GREGORIAN
METHOD:PUBLISH
X-ORIGINAL-URL:https://therabor.de
X-WR-CALDESC:Veranstaltungen für Physiotherapie
REFRESH-INTERVAL;VALUE=DURATION:PT1H
X-Robots-Tag:noindex
X-PUBLISHED-TTL:PT1H
BEGIN:VTIMEZONE
TZID:Europe/Berlin
BEGIN:DAYLIGHT
TZOFFSETFROM:+0100
TZOFFSETTO:+0200
TZNAME:CEST
DTSTART:20230326T010000
END:DAYLIGHT
BEGIN:STANDARD
TZOFFSETFROM:+0200
TZOFFSETTO:+0100
TZNAME:CET
DTSTART:20231029T010000
END:STANDARD
BEGIN:DAYLIGHT
TZOFFSETFROM:+0100
TZOFFSETTO:+0200
TZNAME:CEST
DTSTART:20240331T010000
END:DAYLIGHT
BEGIN:STANDARD
TZOFFSETFROM:+0200
TZOFFSETTO:+0100
TZNAME:CET
DTSTART:20241027T010000
END:STANDARD
BEGIN:DAYLIGHT
TZOFFSETFROM:+0100
TZOFFSETTO:+0200
TZNAME:CEST
DTSTART:20250330T010000
END:DAYLIGHT
BEGIN:STANDARD
TZOFFSETFROM:+0200
TZOFFSETTO:+0100
TZNAME:CET
DTSTART:20251026T010000
END:STANDARD
END:VTIMEZONE
BEGIN:VEVENT
DTSTART;VALUE=DATE:20240613
DTEND;VALUE=DATE:20240617
DTSTAMP:20260424T035121
CREATED:20240507T164313Z
LAST-MODIFIED:20240507T164313Z
UID:2148-1718236800-1718582399@therabor.de
SUMMARY:Komplementäre Physiotherapeutische Medizin Better Aging in Klagenfurt
DESCRIPTION:Direktlink zum Veranstalter: https://www.fbz-klagenfurt.at/event/better-aging/ \nDie Menschen werden zwar immer älter\, doch bleiben sie nicht automatisch länger gesund\, fit und leistungsfähig. Der demographische Wandel zeigt\, dass alternde bzw. alte Menschen in den nächsten Jahren eine wichtige Zielgruppe für den Berufsstand der Physiotherapie wird bzw. schon ist. Umso wichtiger ist es\, dass sich der Physiotherapeut mit den physiologischen und pathophysiologischen Alterungsprozessen auseinandersetzt\, um diese so optimal wie möglich für den Patienten zu beeinflussen Aber Alternsintervention beginnt nicht nur\, wenn der Mensch schon gealtert ist\, je früher wir Vorkehrungen gegen das Altern treffen\, desto besser sind unsere Erfolgsaussichten. Der Kurs “Better Aging“ liefert dazu ein fundiertes Programm\, um die Leistungsfähigkeit des Körpers zu verbessern und zu erhalten
URL:https://therabor.de/event/komplementaere-physiotherapeutische-medizin-better-aging-in-klagenfurt/
LOCATION:FBZ Klagenfurt\, Waaggasse 18\, Klagenfurt\, 9020\, Österreich
CATEGORIES:Österreich
ATTACH;FMTTYPE=image/jpeg:https://therabor.de/wp-content/uploads/2024/02/Matthias_Loeber_002.jpg
END:VEVENT
END:VCALENDAR