BEGIN:VCALENDAR
VERSION:2.0
PRODID:-//Physiotherapie - ECPv6.15.20//NONSGML v1.0//EN
CALSCALE:GREGORIAN
METHOD:PUBLISH
X-ORIGINAL-URL:https://therabor.de
X-WR-CALDESC:Veranstaltungen für Physiotherapie
REFRESH-INTERVAL;VALUE=DURATION:PT1H
X-Robots-Tag:noindex
X-PUBLISHED-TTL:PT1H
BEGIN:VTIMEZONE
TZID:Europe/Berlin
BEGIN:DAYLIGHT
TZOFFSETFROM:+0100
TZOFFSETTO:+0200
TZNAME:CEST
DTSTART:20230326T010000
END:DAYLIGHT
BEGIN:STANDARD
TZOFFSETFROM:+0200
TZOFFSETTO:+0100
TZNAME:CET
DTSTART:20231029T010000
END:STANDARD
BEGIN:DAYLIGHT
TZOFFSETFROM:+0100
TZOFFSETTO:+0200
TZNAME:CEST
DTSTART:20240331T010000
END:DAYLIGHT
BEGIN:STANDARD
TZOFFSETFROM:+0200
TZOFFSETTO:+0100
TZNAME:CET
DTSTART:20241027T010000
END:STANDARD
BEGIN:DAYLIGHT
TZOFFSETFROM:+0100
TZOFFSETTO:+0200
TZNAME:CEST
DTSTART:20250330T010000
END:DAYLIGHT
BEGIN:STANDARD
TZOFFSETFROM:+0200
TZOFFSETTO:+0100
TZNAME:CET
DTSTART:20251026T010000
END:STANDARD
END:VTIMEZONE
BEGIN:VEVENT
DTSTART;VALUE=DATE:20240513
DTEND;VALUE=DATE:20240517
DTSTAMP:20260424T052120
CREATED:20240507T165016Z
LAST-MODIFIED:20240507T165105Z
UID:2150-1715558400-1715903999@therabor.de
SUMMARY:Komplementäre Physiotherapeutische Medizin Organphysiologie in Brixen
DESCRIPTION:Direktlink zum Veranstalter:https://www.kloster-neustift.it/en/convention-centre/education-at-a-glance/detail/organphysiologie-die-reise-durch-das-verdauungssystem-1017304/ \n\nZielsetzung des Kurses:\n\nZahlreiche Beschwerden am Bewegungsapparat\, wie z.B. Muskelschwäche- und verlust\, Muskelschmerzen\, Arthritiden\, pseudorheumatische Beschwerden\, Polyarthrosen\, Fibromyalgie etc.\, aufgrund derer Patienten einen Physiotherapeuten konsultieren\, können ihre Ursache in einer biochemischen\, bzw. reflektorischen Störung der Verdauungsorgane haben. Vor allem Studien der letzten Jahre zeigten die enormen Einflüsse des Darmmikrobioms auf vielfältige Körperfunktionen\, insbesondere des muskuloskelettalen Systems\, auf. \nDer Kurs beinhaltet Untersuchungsstrategien \n(spezielle Organanamnese / funktionelle Austestung über Applied Kinesiology mit ca. 50 verschiedenen Testsubstanzen/ Infos über Laborverfahren etc.)\, sowie Therapiemöglichkeiten durch viszeral-manuelle Techniken\, Ernährungsberatung und/oder spezifische Substitution. \n\nPhysiologie\, bzw. Pathophysiologie der einzelnen Organsysteme (v.a. des Gastrointestinaltrakts) und deren Interaktion untereinander\, sowie deren Auswirkungen auf den Bewegungsapparat.\nUntersuchung (neuroreflekorisch\, faszialmechanisch\, biochemisch über Applied Kinesiology)\nManuelle und funktionelle Behandlungsmöglichkeiten werden aufgezeigt und praktisch geübt.
URL:https://therabor.de/event/komplementaere-physiotherapeutische-medizin-organphysiologie-in-brixen/
LOCATION:Kloster Neustift Brixen\, Via Abbazia 1\, Novacella\, 39040\, Italien
CATEGORIES:Italien
ATTACH;FMTTYPE=image/jpeg:https://therabor.de/wp-content/uploads/2024/02/Matthias_Loeber_002.jpg
END:VEVENT
END:VCALENDAR