BEGIN:VCALENDAR
VERSION:2.0
PRODID:-//Physiotherapie - ECPv6.15.20//NONSGML v1.0//EN
CALSCALE:GREGORIAN
METHOD:PUBLISH
X-ORIGINAL-URL:https://therabor.de
X-WR-CALDESC:Veranstaltungen für Physiotherapie
REFRESH-INTERVAL;VALUE=DURATION:PT1H
X-Robots-Tag:noindex
X-PUBLISHED-TTL:PT1H
BEGIN:VTIMEZONE
TZID:Europe/Berlin
BEGIN:DAYLIGHT
TZOFFSETFROM:+0100
TZOFFSETTO:+0200
TZNAME:CEST
DTSTART:20250330T010000
END:DAYLIGHT
BEGIN:STANDARD
TZOFFSETFROM:+0200
TZOFFSETTO:+0100
TZNAME:CET
DTSTART:20251026T010000
END:STANDARD
BEGIN:DAYLIGHT
TZOFFSETFROM:+0100
TZOFFSETTO:+0200
TZNAME:CEST
DTSTART:20260329T010000
END:DAYLIGHT
BEGIN:STANDARD
TZOFFSETFROM:+0200
TZOFFSETTO:+0100
TZNAME:CET
DTSTART:20261025T010000
END:STANDARD
BEGIN:DAYLIGHT
TZOFFSETFROM:+0100
TZOFFSETTO:+0200
TZNAME:CEST
DTSTART:20270328T010000
END:DAYLIGHT
BEGIN:STANDARD
TZOFFSETFROM:+0200
TZOFFSETTO:+0100
TZNAME:CET
DTSTART:20271031T010000
END:STANDARD
END:VTIMEZONE
BEGIN:VEVENT
DTSTART;TZID=Europe/Berlin:20260911T140000
DTEND;TZID=Europe/Berlin:20260913T150000
DTSTAMP:20260422T221854
CREATED:20250930T104308Z
LAST-MODIFIED:20250930T104308Z
UID:2357-1789135200-1789311600@therabor.de
SUMMARY:Craniomandibuläre Dysfunktionen Advanced II in Hannover
DESCRIPTION:Direktlink zum Veranstalter: https://cranioconcept.de/termine-und-tarife/hannover\nAssoziation CMD – Sinnesorgane – HWS\n\nCraniomandibuläre Dysfunktion: Wissenschaftliche Entwicklungen – praktische Umsetzung\nAktuelles zu Fragen der Verordnung von Heilmitteln durch Zahnärzte\nVertigo und Tinnitus … aus Kiefergelenk und Halswirbelsäule?\nVernetzte Behandlungsstrategien – wie arbeiten Zahnmedizin und Physiotherapie Hand in Hand?\nPraxis-Spezial: Selbstübungsprogramme für den CMD-Patienten\nRückblende: Kerninhalte aus dem Basic-Level und Advanced-Level-I\nPatienten-Demonstration: Anamnese / Clinical Reasoning / Therapieplanung\n\n\n\n\n \n\n\nErweiterte Manuelle Therapie in der klinischen Praxis\n\nOptimieren der relevanten Untersuchungs- und Behandlungstechniken aus Basic-Level und Advanced Level I (Temporomandibular / Cranial / Cervical / Neural) unter Supervision\nNeuromuskuläre Techniken bei myofaszialen Dysfunktionen in der CMD-Region\nDarstellung verschiedener neurophysiologischer Systeme:\n\nTriggerpunktbehandlung\nMuscle Energy Technik (MET)\npostisometrische Relaxation\nStrain-Counterstrain (nach Jones)\nIntegrierte neuromuskuläre Inhibitionstechnik\nReflexpunkte (neurovaskulär u. neurolymphatisch)\n\n\n\n\n\n\n\n \n\n\n\nKomplexe Aspekte der klinischen Praxis\n\n\n\n\n\n\nRückblende: Kerninhalte aus dem Basic-Level und Advanced-Level-I\nAssoziation CMD – Sinnesorgane – HWS: Vertigo und Tinnitus aus Kiefergelenk und Halswirbelsäule?\nPatienten-Demonstration: Anamnese / Clinical Reasoning / Therapieplanung\nErkennen komplexer Aspekte der klinischen Praxis: Analytische Vorgehensweise und klinische Beweisführung\n\n\n\n\n\n\nNeuromuskuläre Techniken bei myofaszialen Dysfunktionen in der CMD-Region\nDarstellung verschiedener neuromuskulärer und neurophysiologischer\, physiologischer Konzepte:\n\nTriggerpunktbehandlung\nMuscle Energy Technik (MET)\nPostisometrische Relaxation\nStrain-Counterstrain (nach Jones)\nIntegrierte neuromuskuläre Inhibitionstechnik\nReflexpunkte (neurovaskulär und neurolymphatisch)\n\n\n\n\n\n\n\n\nUntersuchung der Fasziensysteme und deren gezielte Beeinflussung\n\nHalsfaszien (oberflächige und tiefe)\nApertura thoracis superior (Thoracic inlet/outlet)\nthorakoabdominales Diaphragma (Zwerchfell)\nviszeral-bindegewebige Verbindungen\n\n\nPosturologische Einflüsse auf das craniomandibuläre System\nBeckenring (craniopelvine Dysfunktion)\nISG\nBeckenbindegewebe (Diaphragma urogenitale) aus den unteren Extremitäten (Fuß\, Knie\, Hüfte)
URL:https://therabor.de/event/craniomandibulaere-dysfunktionen-advanced-ii-in-hannover/
LOCATION:AIM Hannover\, Podbielskistraße 169\, Hannover\, 30177\, Deutschland
CATEGORIES:Deutschland
ATTACH;FMTTYPE=image/jpeg:https://therabor.de/wp-content/uploads/2024/02/Therabor-Physiotherapie_005.jpg
END:VEVENT
END:VCALENDAR