BEGIN:VCALENDAR
VERSION:2.0
PRODID:-//Physiotherapie - ECPv6.15.20//NONSGML v1.0//EN
CALSCALE:GREGORIAN
METHOD:PUBLISH
X-ORIGINAL-URL:https://therabor.de
X-WR-CALDESC:Veranstaltungen für Physiotherapie
REFRESH-INTERVAL;VALUE=DURATION:PT1H
X-Robots-Tag:noindex
X-PUBLISHED-TTL:PT1H
BEGIN:VTIMEZONE
TZID:Europe/Berlin
BEGIN:DAYLIGHT
TZOFFSETFROM:+0100
TZOFFSETTO:+0200
TZNAME:CEST
DTSTART:20240331T010000
END:DAYLIGHT
BEGIN:STANDARD
TZOFFSETFROM:+0200
TZOFFSETTO:+0100
TZNAME:CET
DTSTART:20241027T010000
END:STANDARD
BEGIN:DAYLIGHT
TZOFFSETFROM:+0100
TZOFFSETTO:+0200
TZNAME:CEST
DTSTART:20250330T010000
END:DAYLIGHT
BEGIN:STANDARD
TZOFFSETFROM:+0200
TZOFFSETTO:+0100
TZNAME:CET
DTSTART:20251026T010000
END:STANDARD
BEGIN:DAYLIGHT
TZOFFSETFROM:+0100
TZOFFSETTO:+0200
TZNAME:CEST
DTSTART:20260329T010000
END:DAYLIGHT
BEGIN:STANDARD
TZOFFSETFROM:+0200
TZOFFSETTO:+0100
TZNAME:CET
DTSTART:20261025T010000
END:STANDARD
END:VTIMEZONE
BEGIN:VEVENT
DTSTART;TZID=Europe/Berlin:20251010T140000
DTEND;TZID=Europe/Berlin:20251012T143000
DTSTAMP:20260423T001945
CREATED:20241017T080133Z
LAST-MODIFIED:20241017T080133Z
UID:2289-1760104800-1760279400@therabor.de
SUMMARY:Craniomandibuläre Dysfunktionen Advanced II in Berlin
DESCRIPTION:Direktlink zum Veranstalter: https://cranioconcept.de/termine-und-tarife/berlin \n  \n \n\n\nAssoziation CMD – Sinnesorgane – HWS\n\nCraniomandibuläre Dysfunktion: Wissenschaftliche Entwicklungen – praktische Umsetzung\nAktuelles zu Fragen der Verordnung von Heilmitteln durch Zahnärzte\nVertigo und Tinnitus … aus Kiefergelenk und Halswirbelsäule?\nVernetzte Behandlungsstrategien – wie arbeiten Zahnmedizin und Physiotherapie Hand in Hand?\nPraxis-Spezial: Selbstübungsprogramme für den CMD-Patienten\nRückblende: Kerninhalte aus dem Basic-Level und Advanced-Level-I\nPatienten-Demonstration: Anamnese / Clinical Reasoning / Therapieplanung\n\n\n\n\n \n\n\nErweiterte Manuelle Therapie in der klinischen Praxis\n\nOptimieren der relevanten Untersuchungs- und Behandlungstechniken aus Basic-Level und Advanced Level I (Temporomandibular / Cranial / Cervical / Neural) unter Supervision\nNeuromuskuläre Techniken bei myofaszialen Dysfunktionen in der CMD-Region\nDarstellung verschiedener neurophysiologischer Systeme:\n\nTriggerpunktbehandlung\nMuscle Energy Technik (MET)\npostisometrische Relaxation\nStrain-Counterstrain (nach Jones)\nIntegrierte neuromuskuläre Inhibitionstechnik\nReflexpunkte (neurovaskulär u. neurolymphatisch)
URL:https://therabor.de/event/craniomandibulaere-dysfunktionen-advanced-ii-in-berlin/
LOCATION:AIM Berlin\, Augustenburger Platz 1\, Berlin\, 13353\, Deutschland
CATEGORIES:Deutschland,Team Therabor
ATTACH;FMTTYPE=image/jpeg:https://therabor.de/wp-content/uploads/2024/02/Therabor-Physiotherapie_008.jpg
END:VEVENT
END:VCALENDAR