BEGIN:VCALENDAR
VERSION:2.0
PRODID:-//Physiotherapie - ECPv6.15.20//NONSGML v1.0//EN
CALSCALE:GREGORIAN
METHOD:PUBLISH
X-ORIGINAL-URL:https://therabor.de
X-WR-CALDESC:Veranstaltungen für Physiotherapie
REFRESH-INTERVAL;VALUE=DURATION:PT1H
X-Robots-Tag:noindex
X-PUBLISHED-TTL:PT1H
BEGIN:VTIMEZONE
TZID:Europe/Berlin
BEGIN:DAYLIGHT
TZOFFSETFROM:+0100
TZOFFSETTO:+0200
TZNAME:CEST
DTSTART:20240331T010000
END:DAYLIGHT
BEGIN:STANDARD
TZOFFSETFROM:+0200
TZOFFSETTO:+0100
TZNAME:CET
DTSTART:20241027T010000
END:STANDARD
BEGIN:DAYLIGHT
TZOFFSETFROM:+0100
TZOFFSETTO:+0200
TZNAME:CEST
DTSTART:20250330T010000
END:DAYLIGHT
BEGIN:STANDARD
TZOFFSETFROM:+0200
TZOFFSETTO:+0100
TZNAME:CET
DTSTART:20251026T010000
END:STANDARD
BEGIN:DAYLIGHT
TZOFFSETFROM:+0100
TZOFFSETTO:+0200
TZNAME:CEST
DTSTART:20260329T010000
END:DAYLIGHT
BEGIN:STANDARD
TZOFFSETFROM:+0200
TZOFFSETTO:+0100
TZNAME:CET
DTSTART:20261025T010000
END:STANDARD
END:VTIMEZONE
BEGIN:VEVENT
DTSTART;TZID=Europe/Berlin:20250905T140000
DTEND;TZID=Europe/Berlin:20250907T160000
DTSTAMP:20260423T021549
CREATED:20240805T093232Z
LAST-MODIFIED:20241017T075348Z
UID:2279-1757080800-1757260800@therabor.de
SUMMARY:Craniomandibuläre Dysfunktionen Basis in Zürich
DESCRIPTION:Direktlink zum Veranstalter \nDie Anzahl der CMD-Patienten\, die professionelle Hilfe suchen\, nimmt in der täglichen Praxis stetig zu. Da die Diagnose „CMD“ nur einen Überbegriff für strukturelle-\, biochemische und psychische Fehlregulationen der Muskel- oder Gelenkfunktion darstellt\, lernst du in diesem zweitägigen Seminar das Kiefergelenk und seine direkt beteiligten Strukturen sicher zu befunden\, zu untersuchen und zu behandeln. \nDie KPM vermittelt dir neben dem diagnostischen “Handwerkszeug“ auch das übergreifende behandlungsstrategische Konzept\, weil die KPM praxiserprobte physiotherapeutische Ansätze mehrerer Konzepte mit komplementärmedizinischen Diagnostik- und Therapieverfahren miteinander verbindet. \nErweitere deine therapeutische Kompetenz durch den KPM- Klinischen Kurs KIEFERGELENK
URL:https://therabor.de/event/craniomandibulaere-dysfunktionen-advanced-1-in-zuerich/
LOCATION:AIM Collegium Zürich\, Tobelhofstr. 21\, Zürich\, 8044\, Schweiz
CATEGORIES:Schweiz,Team Therabor
ATTACH;FMTTYPE=image/jpeg:https://therabor.de/wp-content/uploads/2024/02/Therabor-Physiotherapie_007.jpg
END:VEVENT
END:VCALENDAR