BEGIN:VCALENDAR
VERSION:2.0
PRODID:-//Physiotherapie - ECPv6.15.20//NONSGML v1.0//EN
CALSCALE:GREGORIAN
METHOD:PUBLISH
X-ORIGINAL-URL:https://therabor.de
X-WR-CALDESC:Veranstaltungen für Physiotherapie
REFRESH-INTERVAL;VALUE=DURATION:PT1H
X-Robots-Tag:noindex
X-PUBLISHED-TTL:PT1H
BEGIN:VTIMEZONE
TZID:Europe/Berlin
BEGIN:DAYLIGHT
TZOFFSETFROM:+0100
TZOFFSETTO:+0200
TZNAME:CEST
DTSTART:20240331T010000
END:DAYLIGHT
BEGIN:STANDARD
TZOFFSETFROM:+0200
TZOFFSETTO:+0100
TZNAME:CET
DTSTART:20241027T010000
END:STANDARD
BEGIN:DAYLIGHT
TZOFFSETFROM:+0100
TZOFFSETTO:+0200
TZNAME:CEST
DTSTART:20250330T010000
END:DAYLIGHT
BEGIN:STANDARD
TZOFFSETFROM:+0200
TZOFFSETTO:+0100
TZNAME:CET
DTSTART:20251026T010000
END:STANDARD
BEGIN:DAYLIGHT
TZOFFSETFROM:+0100
TZOFFSETTO:+0200
TZNAME:CEST
DTSTART:20260329T010000
END:DAYLIGHT
BEGIN:STANDARD
TZOFFSETFROM:+0200
TZOFFSETTO:+0100
TZNAME:CET
DTSTART:20261025T010000
END:STANDARD
END:VTIMEZONE
BEGIN:VEVENT
DTSTART;TZID=Europe/Berlin:20250620T140000
DTEND;TZID=Europe/Berlin:20250622T143000
DTSTAMP:20260423T074127
CREATED:20250105T173829Z
LAST-MODIFIED:20250105T173829Z
UID:2304-1750428000-1750602600@therabor.de
SUMMARY:Craniomandibuläre Dysfunktionen Advanced 1 in Berlin
DESCRIPTION:Direktlink zum Veranstalter: https://cranioconcept.de/termine-und-tarife/berlin \n  \n\n\n\nDer CMD-Patient von „Kopf bis Fuß“ – Craniomandibuläre Dysfunktion\n\nCraniomandibuläre Dysfunktion:\nTrends und therapeutische Strategien bei so genannten „Problempatienten“\nVertiefende Darstellung der anatomischen Strukturen des Craniomandibulären Systems\nCMD – Ursache oder Folge?\nKlinische Diagnostik / Behandlung in der Physiotherapie\nSelbstübungsprogramme bei CMD\nPraktische Repetition Basis-Seminar und erweiterte Behandlungstechniken der anteromedialen Diskusverlagerung\n\n\n\n\n\n\n\nErweiterte Manuelle Therapie in der klinischen Praxis\n\nDiskusverlagerung mit Reduktion\nDiskusverlagerung ohne Reduktion\nmediale und laterale Diskusverlagerung\nAufbau eines Patienten-Heimprogramms\nFunktionelle klinische Zusammenhänge des craniomandibulären Systems mit der HWS\nUntersuchungs- und Behandlungstechniken der Cervicalregion\n• Obere Kopfgelenke (C0/1\, C1/2)\n• Cervicalsegment C2/3\n• Neurale Strukturen\, Verbindungen mit dem Fasziensystem\n• Cervicothorakaler Übergang (C7 – Th 3/4)\nDas Kiefergelenk und obere HWS innerhalb der Posturologie\n• aufsteigende /absteigende Läsionsketten\n• Test- und Behandlungsmöglichkeiten
URL:https://therabor.de/event/craniomandibulaere-dysfunktionen-advanced-1-in-berlin/
LOCATION:AIM Collegium Zürich\, Tobelhofstr. 21\, Zürich\, 8044\, Schweiz
CATEGORIES:Deutschland
ATTACH;FMTTYPE=image/jpeg:https://therabor.de/wp-content/uploads/2024/02/Matthias_Loeber_002.jpg
END:VEVENT
BEGIN:VEVENT
DTSTART;TZID=Europe/Berlin:20250627T140000
DTEND;TZID=Europe/Berlin:20250629T153000
DTSTAMP:20260423T074127
CREATED:20240320T192723Z
LAST-MODIFIED:20250104T140759Z
UID:2090-1751032800-1751211000@therabor.de
SUMMARY:Craniomandibuläre Dysfunktionen Advanced 1 in München
DESCRIPTION:Direktlink Veranstalter  \n\n\n\n\n\n\n\n\n\n\nAssoziation CMD – Sinnesorgane – HWS\n\nCraniomandibuläre Dysfunktion: Wissenschaftliche Entwicklungen – praktische Umsetzung\nAktuelles zu Fragen der Verordnung von Heilmitteln durch Zahnärzte\nVertigo und Tinnitus … aus Kiefergelenk und Halswirbelsäule?\nVernetzte Behandlungsstrategien – wie arbeiten Zahnmedizin und Physiotherapie Hand in Hand?\nPraxis-Spezial: Selbstübungsprogramme für den CMD-Patienten\nRückblende: Kerninhalte aus dem Basic-Level und Advanced-Level-I\nPatienten-Demonstration: Anamnese / Clinical Reasoning / Therapieplanung\n\n\n\n\n\n\n\nErweiterte Manuelle Therapie in der klinischen Praxis\n\nOptimieren der relevanten Untersuchungs- und Behandlungstechniken aus Basic-Level und Advanced Level I (Temporomandibular / Cranial / Cervical / Neural) unter Supervision\nNeuromuskuläre Techniken bei myofaszialen Dysfunktionen in der CMD-Region\nDarstellung verschiedener neurophysiologischer Systeme:\n\nTriggerpunktbehandlung\nMuscle Energy Technik (MET)\npostisometrische Relaxation\nStrain-Counterstrain (nach Jones)\nIntegrierte neuromuskuläre Inhibitionstechnik\nReflexpunkte (neurovaskulär u. neurolymphatisch)
URL:https://therabor.de/event/craniomandibulaere-dysfunktionen-advanced-2-3/
LOCATION:AIM München\, St.-Wolfgangs-Platz 11\, München\, 81669
CATEGORIES:Deutschland
ATTACH;FMTTYPE=image/jpeg:https://therabor.de/wp-content/uploads/2024/02/Matthias_Loeber_002.jpg
END:VEVENT
END:VCALENDAR