BEGIN:VCALENDAR
VERSION:2.0
PRODID:-//Physiotherapie - ECPv6.15.20//NONSGML v1.0//EN
CALSCALE:GREGORIAN
METHOD:PUBLISH
X-WR-CALNAME:Physiotherapie
X-ORIGINAL-URL:https://therabor.de
X-WR-CALDESC:Veranstaltungen für Physiotherapie
REFRESH-INTERVAL;VALUE=DURATION:PT1H
X-Robots-Tag:noindex
X-PUBLISHED-TTL:PT1H
BEGIN:VTIMEZONE
TZID:Europe/Berlin
BEGIN:DAYLIGHT
TZOFFSETFROM:+0100
TZOFFSETTO:+0200
TZNAME:CEST
DTSTART:20240331T010000
END:DAYLIGHT
BEGIN:STANDARD
TZOFFSETFROM:+0200
TZOFFSETTO:+0100
TZNAME:CET
DTSTART:20241027T010000
END:STANDARD
BEGIN:DAYLIGHT
TZOFFSETFROM:+0100
TZOFFSETTO:+0200
TZNAME:CEST
DTSTART:20250330T010000
END:DAYLIGHT
BEGIN:STANDARD
TZOFFSETFROM:+0200
TZOFFSETTO:+0100
TZNAME:CET
DTSTART:20251026T010000
END:STANDARD
BEGIN:DAYLIGHT
TZOFFSETFROM:+0100
TZOFFSETTO:+0200
TZNAME:CEST
DTSTART:20260329T010000
END:DAYLIGHT
BEGIN:STANDARD
TZOFFSETFROM:+0200
TZOFFSETTO:+0100
TZNAME:CET
DTSTART:20261025T010000
END:STANDARD
END:VTIMEZONE
BEGIN:VEVENT
DTSTART;TZID=Europe/Berlin:20250523T140000
DTEND;TZID=Europe/Berlin:20250525T143000
DTSTAMP:20260423T092346
CREATED:20240805T090949Z
LAST-MODIFIED:20240805T091025Z
UID:2267-1748008800-1748183400@therabor.de
SUMMARY:Craniomandibuläre Dysfunktionen Basiskurs in Hannover
DESCRIPTION:Direktlink zum Veranstalter\nBrennpunkt Kauorgan\nEinführung zum Thema „Funktionserkrankungen der Kopf- und Kieferregion“ \n\nFunktionelle Zusammenhänge\nPathophysiologische Aspekte\nTherapeutische Prinzipien\n\nAnatomische Besonderheiten der Craniozervikalregion: \n\nDarstellung der ossären\, muskulären und neuronalen Strukturen des Kauorgans\n\nFunktionelle Betrachtungen \n\nDas Kiefergelenk als mobiles Zentrum zwischen Kopf- und Gesichtsschädel\nbiomechanische und funktionelle Zusammenhänge in der Craniomandibularregion:\nEinfluss der Stellung der HWS auf Stellung und Funktion des Kiefergelenkes (Haltungsproblematik)\nEinfluss der muskulären Überfunktion auf die Okklusion\nPhänomen: Verriegelte Stellung\, Ruhestellung\nDie antero-mediale Diskusverlagerung aus manualtherapeutischer Sicht\n\nManuelle Untersuchung Kiefergelenk \n\nBiomechanik des Kiefergelenkes aus manualtherapeutischer Sicht\nPeriphere Symptome bei Kiefergelenksproblemen und -pathologien\nBereichslokalisationstests:\nMandibularregion\n• obere HWS • mittlere HWS\n• Cervikothorakaler Übergang (CTÜ)\n\n\n\n\n\n\n\nCMD und Manuelle Therapie – Spezifische Untersuchungs- und Behandlungstechniken\nManuelle Untersuchung der Craniozervikalregion \n\nmanualtherapeutische Untersuchung des Kiefergelenkes (aktiv\, passiv\, translatorische Untersuchung und Widerstandstests)\nZusatzuntersuchungen: Provokation der vier verschiedenen Anteile der Kapsel\nProvokation des Lig. temporomandibulare\, Lig. posterior\, Lig. collaterale laterale\, Hinterseite des Diskus\nPalpationskreis\n\nManuelle Therapie der Craniozervikalregion \n\nBehandlung bei einer reflektorischen Bewegungseinschränkung: schmerzbedingt bzw. Arthritis\nBehandlung des Kiefergelenkes bei einer strukturellen Bewegungseinschränkung: Kapselschrumpfung\nBehandlung des Kiefergelenkes bei einer strukturellen Bewegungseinschränkung: Arthrose\nBehandlung des Kiefergelenkes: antero-mediale Diskusverlagerung\nWeichteilbehandlung (Entspannung und Dehnung): Muskulatur: Kaumuskeln\, supra- und infrahyoidale Muskeln\, M. trapezius pars descendens\, M. levator scapulae\nMitbehandlung des Achsenorgans: HWS – CTÜ
URL:https://therabor.de/event/craniomandibulaere-dysfunktionen-basiskurs-6/
LOCATION:AIM Hannover\, Podbielskistraße 169\, Hannover\, 30177\, Deutschland
CATEGORIES:Deutschland
ATTACH;FMTTYPE=image/jpeg:https://therabor.de/wp-content/uploads/2024/02/Marco-Stein_003.jpg
END:VEVENT
END:VCALENDAR