BEGIN:VCALENDAR
VERSION:2.0
PRODID:-//Physiotherapie - ECPv6.15.20//NONSGML v1.0//EN
CALSCALE:GREGORIAN
METHOD:PUBLISH
X-WR-CALNAME:Physiotherapie
X-ORIGINAL-URL:https://therabor.de
X-WR-CALDESC:Veranstaltungen für Physiotherapie
REFRESH-INTERVAL;VALUE=DURATION:PT1H
X-Robots-Tag:noindex
X-PUBLISHED-TTL:PT1H
BEGIN:VTIMEZONE
TZID:Europe/Berlin
BEGIN:DAYLIGHT
TZOFFSETFROM:+0100
TZOFFSETTO:+0200
TZNAME:CEST
DTSTART:20230326T010000
END:DAYLIGHT
BEGIN:STANDARD
TZOFFSETFROM:+0200
TZOFFSETTO:+0100
TZNAME:CET
DTSTART:20231029T010000
END:STANDARD
BEGIN:DAYLIGHT
TZOFFSETFROM:+0100
TZOFFSETTO:+0200
TZNAME:CEST
DTSTART:20240331T010000
END:DAYLIGHT
BEGIN:STANDARD
TZOFFSETFROM:+0200
TZOFFSETTO:+0100
TZNAME:CET
DTSTART:20241027T010000
END:STANDARD
BEGIN:DAYLIGHT
TZOFFSETFROM:+0100
TZOFFSETTO:+0200
TZNAME:CEST
DTSTART:20250330T010000
END:DAYLIGHT
BEGIN:STANDARD
TZOFFSETFROM:+0200
TZOFFSETTO:+0100
TZNAME:CET
DTSTART:20251026T010000
END:STANDARD
END:VTIMEZONE
BEGIN:VEVENT
DTSTART;TZID=Europe/Berlin:20241101T090000
DTEND;TZID=Europe/Berlin:20241103T140000
DTSTAMP:20260423T201152
CREATED:20240317T191554Z
LAST-MODIFIED:20240507T162243Z
UID:2068-1730451600-1730642400@therabor.de
SUMMARY:Craniomandibuläre Dysfunktionen Basiskurs in München
DESCRIPTION:Direktlink Veranstalter https://bay.physio-deutschland.de/landesverband-bayern/fortbildungen/details/seminar/craniomandibulaere-dysfunktionen-cmd-2.html \n  \nDer Kurs beschäftigt sich mit der Vermittlung klinischer Bilder am Kiefergelenk und betrachtet beeinflussende Systeme und hat zum Ziel bereits einen Tag nach dem Kursbesuch praktische Inhalte in den Therapeutenalltag zu integrieren. \nKursinhalte: \n  \n  \n\n\n\nAnatomie und Biomechanik des Kiefergelenks und seiner angrenzenden Strukturen\n\n\n\n  \n\n\n\nPathologien am Kiefergelenk\n\n\n\n  \n\n\n\nUntersuchungsmethoden für das Kiefergelenk\n\n\n\n  \n\n\n\nBehandlungen der myogenen\, ligamentären und bindegewebigen Strukturen des Kiefergelenks und der angrenzenden Strukturen.\n\n\n\n  \n\n\n\nNeuroanantomie der kiefergelenksversorgenden Nerven.\n\n\n\n  \n\n\n\nMobilisation des Nervensystems am Kiefergelenk.\n\n\n\n  \n\n\n\nFaszienanatomie\n\n\n\n  \n\n\n\nUntersuchungs- und Behandlungsmethodik für die relevanten Faszien.\n\n\n\n  \n\n\n\nAnatomie und Biomechanik der oberen und unteren HWS\, sowie Einordnung der klinischen Relevanz für Beschwerden am Kiefergelenk.\n\n\n\n  \n\nAnatomie des cranialen Systems und Untersuchungs- sowie Behandlungsmethoden.
URL:https://therabor.de/event/craniomandibulaere-dysfunktionen-basiskurs-5/
LOCATION:Physio Deutschland e.V. München\, Kirchenstraße 88\, München\, 81675\, Deutschland
CATEGORIES:Deutschland
ATTACH;FMTTYPE=image/jpeg:https://therabor.de/wp-content/uploads/2024/02/Therabor-Physiotherapie_006.jpg
END:VEVENT
BEGIN:VEVENT
DTSTART;TZID=Europe/Berlin:20241108T090000
DTEND;TZID=Europe/Berlin:20241110T153000
DTSTAMP:20260423T201152
CREATED:20240227T191613Z
LAST-MODIFIED:20240507T162209Z
UID:1884-1731056400-1731252600@therabor.de
SUMMARY:Craniomandibuläre Dysfunktionen Basiskurs in Istanbul
DESCRIPTION:Untersuchung und Behandlung des Kiefergelenks unter Berücksichtigung manualtherapeutischer und osteopathischer Konzepte \n  \nDas Kiefergelenk und seine Beeinflussung auf den gesamten Bewegungsapparat beschäftigt immer mehr Physiotherapeut:innen\, die sich mit dem Bewegungsapparat auseinandersetzen. Wie bei vielen Modethemen ist auch hier an vielen Stellen der Einfluss dieses Systems über­bewertet worden. So haben sich viele Konzepte rund um diesen Gelenkkomplex entwickelt.  \nDie Wichtigkeit\, sich mit dem Kiefergelenk zu beschäftigen\, ist heute auch in der wissenschaftlichen Literatur unumstritten. Deshalb kommt man als Physio-und Manualtherapeut:in nicht umhin\, sich entsprechend fortzubilden.  \nDieser Lehrgang ist bewusst kurz gehalten und enthält dennoch alle wichtigen Details\, um sich ausreichend in der Behandlung diesem Thema zu widmen. Ziel des Kurses ist die Vermittlung der relevanten Anatomie\, Biomechanik und Physiologie des Temporomandibulargelenks sowie dessen Untersuchung und Behandlung. Zusätzlich erhalten Sie wichtige Informationen für die weiterführende Diagnostik und die interdiszi­plinäre Zusammenarbeit mit Kolleg:innen.
URL:https://therabor.de/event/craniomandibulaere-dysfunktionen/
LOCATION:OMT Istanbul\, Istanbul\, Türkei
CATEGORIES:Istanbul,Team Therabor
ATTACH;FMTTYPE=image/jpeg:https://therabor.de/wp-content/uploads/2024/02/Therabor-Physiotherapie_007.jpg
END:VEVENT
END:VCALENDAR