BEGIN:VCALENDAR
VERSION:2.0
PRODID:-//Physiotherapie - ECPv6.15.20//NONSGML v1.0//EN
CALSCALE:GREGORIAN
METHOD:PUBLISH
X-WR-CALNAME:Physiotherapie
X-ORIGINAL-URL:https://therabor.de
X-WR-CALDESC:Veranstaltungen für Physiotherapie
REFRESH-INTERVAL;VALUE=DURATION:PT1H
X-Robots-Tag:noindex
X-PUBLISHED-TTL:PT1H
BEGIN:VTIMEZONE
TZID:Europe/Berlin
BEGIN:DAYLIGHT
TZOFFSETFROM:+0100
TZOFFSETTO:+0200
TZNAME:CEST
DTSTART:20230326T010000
END:DAYLIGHT
BEGIN:STANDARD
TZOFFSETFROM:+0200
TZOFFSETTO:+0100
TZNAME:CET
DTSTART:20231029T010000
END:STANDARD
BEGIN:DAYLIGHT
TZOFFSETFROM:+0100
TZOFFSETTO:+0200
TZNAME:CEST
DTSTART:20240331T010000
END:DAYLIGHT
BEGIN:STANDARD
TZOFFSETFROM:+0200
TZOFFSETTO:+0100
TZNAME:CET
DTSTART:20241027T010000
END:STANDARD
BEGIN:DAYLIGHT
TZOFFSETFROM:+0100
TZOFFSETTO:+0200
TZNAME:CEST
DTSTART:20250330T010000
END:DAYLIGHT
BEGIN:STANDARD
TZOFFSETFROM:+0200
TZOFFSETTO:+0100
TZNAME:CET
DTSTART:20251026T010000
END:STANDARD
END:VTIMEZONE
BEGIN:VEVENT
DTSTART;TZID=Europe/Berlin:20240906T140000
DTEND;TZID=Europe/Berlin:20240908T150000
DTSTAMP:20260424T000051
CREATED:20240227T184722Z
LAST-MODIFIED:20240507T162700Z
UID:1869-1725631200-1725807600@therabor.de
SUMMARY:Craniomandibuläre Dysfunktionen Advanced I in Zürich
DESCRIPTION:Der CMD-Patient von „Kopf bis Fuß“ – Craniomandibuläre Dysfunktion\n\nCraniomandibuläre Dysfunktion:\nTrends und therapeutische Strategien bei so genannten „Problempatienten“\nVertiefende Darstellung der anatomischen Strukturen des Craniomandibulären Systems\nCMD – Ursache oder Folge?\nKlinische Diagnostik / Behandlung in der Physiotherapie\nSelbstübungsprogramme bei CMD\nPraktische Repetition Basis-Seminar und erweiterte Behandlungstechniken der anteromedialen Diskusverlagerung\n\n  \nBuchung: Direktlink Veranstalter
URL:https://therabor.de/event/craniomandibulaere-dysfunktionen-advanced-i/
LOCATION:AIM Collegium Zürich\, Tobelhofstr. 21\, Zürich\, 8044\, Schweiz
CATEGORIES:Schweiz
ATTACH;FMTTYPE=image/jpeg:https://therabor.de/wp-content/uploads/2024/02/Therabor_0815_024.jpg
END:VEVENT
BEGIN:VEVENT
DTSTART;TZID=Europe/Berlin:20240920T140000
DTEND;TZID=Europe/Berlin:20240922T150000
DTSTAMP:20260424T000051
CREATED:20240227T190743Z
LAST-MODIFIED:20240507T162548Z
UID:1876-1726840800-1727017200@therabor.de
SUMMARY:Craniomandibuläre Dysfunktionen Basiskurs in Berlin
DESCRIPTION:Brennpunkt Kauorgan\nEinführung zum Thema „Funktionserkrankungen der Kopf- und Kieferregion“ \n\nFunktionelle Zusammenhänge\nPathophysiologische Aspekte\nTherapeutische Prinzipien\n\nAnatomische Besonderheiten der Craniozervikalregion: \n\nDarstellung der ossären\, muskulären und neuronalen Strukturen des Kauorgans\n\nFunktionelle Betrachtungen \n\nDas Kiefergelenk als mobiles Zentrum zwischen Kopf- und Gesichtsschädel\nbiomechanische und funktionelle Zusammenhänge in der Craniomandibularregion:\nEinfluss der Stellung der HWS auf Stellung und Funktion des Kiefergelenkes (Haltungsproblematik)\nEinfluss der muskulären Überfunktion auf die Okklusion\nPhänomen: Verriegelte Stellung\, Ruhestellung\nDie antero-mediale Diskusverlagerung aus manualtherapeutischer Sicht\n\nManuelle Untersuchung Kiefergelenk \n\nBiomechanik des Kiefergelenkes aus manualtherapeutischer Sicht\nPeriphere Symptome bei Kiefergelenksproblemen und -pathologien\nBereichslokalisationstests:\nMandibularregion\n• obere HWS • mittlere HWS\n• Cervikothorakaler Übergang (CTÜ)\n\n\n\n\n\n\n\nCMD und Manuelle Therapie – Spezifische Untersuchungs- und Behandlungstechniken\nManuelle Untersuchung der Craniozervikalregion \n\nmanualtherapeutische Untersuchung des Kiefergelenkes (aktiv\, passiv\, translatorische Untersuchung und Widerstandstests)\nZusatzuntersuchungen: Provokation der vier verschiedenen Anteile der Kapsel\nProvokation des Lig. temporomandibulare\, Lig. posterior\, Lig. collaterale laterale\, Hinterseite des Diskus\nPalpationskreis\n\nManuelle Therapie der Craniozervikalregion \n\nBehandlung bei einer reflektorischen Bewegungseinschränkung: schmerzbedingt bzw. Arthritis\nBehandlung des Kiefergelenkes bei einer strukturellen Bewegungseinschränkung: Kapselschrumpfung\nBehandlung des Kiefergelenkes bei einer strukturellen Bewegungseinschränkung: Arthrose\nBehandlung des Kiefergelenkes: antero-mediale Diskusverlagerung\nWeichteilbehandlung (Entspannung und Dehnung): Muskulatur: Kaumuskeln\, supra- und infrahyoidale Muskeln\, M. trapezius pars descendens\, M. levator scapulae\nMitbehandlung des Achsenorgans: HWS – CTÜ\n\n\n\n\n  \nBuchung: Direktlink Veranstalter
URL:https://therabor.de/event/craniomandibulaere-dysfunktionen-basiskurs-3/
LOCATION:AIM Berlin\, Augustenburger Platz 1\, Berlin\, 13353\, Deutschland
CATEGORIES:Deutschland
ATTACH;FMTTYPE=image/jpeg:https://therabor.de/wp-content/uploads/2024/02/Therabor_0815_023.jpg
END:VEVENT
END:VCALENDAR