BEGIN:VCALENDAR
VERSION:2.0
PRODID:-//Physiotherapie - ECPv6.15.20//NONSGML v1.0//EN
CALSCALE:GREGORIAN
METHOD:PUBLISH
X-WR-CALNAME:Physiotherapie
X-ORIGINAL-URL:https://therabor.de
X-WR-CALDESC:Veranstaltungen für Physiotherapie
REFRESH-INTERVAL;VALUE=DURATION:PT1H
X-Robots-Tag:noindex
X-PUBLISHED-TTL:PT1H
BEGIN:VTIMEZONE
TZID:Europe/Berlin
BEGIN:DAYLIGHT
TZOFFSETFROM:+0100
TZOFFSETTO:+0200
TZNAME:CEST
DTSTART:20230326T010000
END:DAYLIGHT
BEGIN:STANDARD
TZOFFSETFROM:+0200
TZOFFSETTO:+0100
TZNAME:CET
DTSTART:20231029T010000
END:STANDARD
BEGIN:DAYLIGHT
TZOFFSETFROM:+0100
TZOFFSETTO:+0200
TZNAME:CEST
DTSTART:20240331T010000
END:DAYLIGHT
BEGIN:STANDARD
TZOFFSETFROM:+0200
TZOFFSETTO:+0100
TZNAME:CET
DTSTART:20241027T010000
END:STANDARD
BEGIN:DAYLIGHT
TZOFFSETFROM:+0100
TZOFFSETTO:+0200
TZNAME:CEST
DTSTART:20250330T010000
END:DAYLIGHT
BEGIN:STANDARD
TZOFFSETFROM:+0200
TZOFFSETTO:+0100
TZNAME:CET
DTSTART:20251026T010000
END:STANDARD
END:VTIMEZONE
BEGIN:VEVENT
DTSTART;VALUE=DATE:20240531
DTEND;VALUE=DATE:20240603
DTSTAMP:20260424T052736
CREATED:20240223T160952Z
LAST-MODIFIED:20240507T163223Z
UID:1740-1717113600-1717372799@therabor.de
SUMMARY:Craniomandibuläre Dysfunktionen Basiskurs in Hannover
DESCRIPTION:Brennpunkt Kauorgan\nEinführung zum Thema „Funktionserkrankungen der Kopf- und Kieferregion“ \n\nFunktionelle Zusammenhänge\nPathophysiologische Aspekte\nTherapeutische Prinzipien\n\nAnatomische Besonderheiten der Craniozervikalregion: \n\nDarstellung der ossären\, muskulären und neuronalen Strukturen des Kauorgans\n\nFunktionelle Betrachtungen \n\nDas Kiefergelenk als mobiles Zentrum zwischen Kopf- und Gesichtsschädel\nbiomechanische und funktionelle Zusammenhänge in der Craniomandibularregion:\nEinfluss der Stellung der HWS auf Stellung und Funktion des Kiefergelenkes (Haltungsproblematik)\nEinfluss der muskulären Überfunktion auf die Okklusion\nPhänomen: Verriegelte Stellung\, Ruhestellung\nDie antero-mediale Diskusverlagerung aus manualtherapeutischer Sicht\n\nManuelle Untersuchung Kiefergelenk \n\nBiomechanik des Kiefergelenkes aus manualtherapeutischer Sicht\nPeriphere Symptome bei Kiefergelenksproblemen und -pathologien\nBereichslokalisationstests:\nMandibularregion\n• obere HWS • mittlere HWS\n• Cervikothorakaler Übergang (CTÜ)\n\n\n\n\n\n\n\nCMD und Manuelle Therapie – Spezifische Untersuchungs- und Behandlungstechniken\nManuelle Untersuchung der Craniozervikalregion \n\nmanualtherapeutische Untersuchung des Kiefergelenkes (aktiv\, passiv\, translatorische Untersuchung und Widerstandstests)\nZusatzuntersuchungen: Provokation der vier verschiedenen Anteile der Kapsel\nProvokation des Lig. temporomandibulare\, Lig. posterior\, Lig. collaterale laterale\, Hinterseite des Diskus\nPalpationskreis\n\nManuelle Therapie der Craniozervikalregion \n\nBehandlung bei einer reflektorischen Bewegungseinschränkung: schmerzbedingt bzw. Arthritis\nBehandlung des Kiefergelenkes bei einer strukturellen Bewegungseinschränkung: Kapselschrumpfung\nBehandlung des Kiefergelenkes bei einer strukturellen Bewegungseinschränkung: Arthrose\nBehandlung des Kiefergelenkes: antero-mediale Diskusverlagerung\nWeichteilbehandlung (Entspannung und Dehnung): Muskulatur: Kaumuskeln\, supra- und infrahyoidale Muskeln\, M. trapezius pars descendens\, M. levator scapulae\nMitbehandlung des Achsenorgans: HWS – CTÜ\n\n\n\n\n\n\n\n\n  \nBuchung: Direktlink Veranstalter
URL:https://therabor.de/event/craniomandibulaere-dysfunktionen-basiskurs/
LOCATION:AIM Hannover\, Podbielskistraße 169\, Hannover\, 30177\, Deutschland
CATEGORIES:Deutschland
ATTACH;FMTTYPE=image/jpeg:https://therabor.de/wp-content/uploads/2024/02/Therabor-Physiotherapie_005.jpg
END:VEVENT
BEGIN:VEVENT
DTSTART;VALUE=DATE:20240607
DTEND;VALUE=DATE:20240610
DTSTAMP:20260424T052736
CREATED:20240223T161513Z
LAST-MODIFIED:20240507T163107Z
UID:1746-1717718400-1717977599@therabor.de
SUMMARY:Craniomandibuläre Dysfunktionen Basiskurs in Zürich
DESCRIPTION:Brennpunkt Kauorgan\nEinführung zum Thema „Funktionserkrankungen der Kopf- und Kieferregion“ \n\nFunktionelle Zusammenhänge\nPathophysiologische Aspekte\nTherapeutische Prinzipien\n\nAnatomische Besonderheiten der Craniozervikalregion: \n\nDarstellung der ossären\, muskulären und neuronalen Strukturen des Kauorgans\n\nFunktionelle Betrachtungen \n\nDas Kiefergelenk als mobiles Zentrum zwischen Kopf- und Gesichtsschädel\nbiomechanische und funktionelle Zusammenhänge in der Craniomandibularregion:\nEinfluss der Stellung der HWS auf Stellung und Funktion des Kiefergelenkes (Haltungsproblematik)\nEinfluss der muskulären Überfunktion auf die Okklusion\nPhänomen: Verriegelte Stellung\, Ruhestellung\nDie antero-mediale Diskusverlagerung aus manualtherapeutischer Sicht\n\nManuelle Untersuchung Kiefergelenk \n\nBiomechanik des Kiefergelenkes aus manualtherapeutischer Sicht\nPeriphere Symptome bei Kiefergelenksproblemen und -pathologien\nBereichslokalisationstests:\nMandibularregion\n• obere HWS • mittlere HWS\n• Cervikothorakaler Übergang (CTÜ)\n\n\n\n\n\n\n\nCMD und Manuelle Therapie – Spezifische Untersuchungs- und Behandlungstechniken\nManuelle Untersuchung der Craniozervikalregion \n\nmanualtherapeutische Untersuchung des Kiefergelenkes (aktiv\, passiv\, translatorische Untersuchung und Widerstandstests)\nZusatzuntersuchungen: Provokation der vier verschiedenen Anteile der Kapsel\nProvokation des Lig. temporomandibulare\, Lig. posterior\, Lig. collaterale laterale\, Hinterseite des Diskus\nPalpationskreis\n\nManuelle Therapie der Craniozervikalregion \n\nBehandlung bei einer reflektorischen Bewegungseinschränkung: schmerzbedingt bzw. Arthritis\nBehandlung des Kiefergelenkes bei einer strukturellen Bewegungseinschränkung: Kapselschrumpfung\nBehandlung des Kiefergelenkes bei einer strukturellen Bewegungseinschränkung: Arthrose\nBehandlung des Kiefergelenkes: antero-mediale Diskusverlagerung\nWeichteilbehandlung (Entspannung und Dehnung): Muskulatur: Kaumuskeln\, supra- und infrahyoidale Muskeln\, M. trapezius pars descendens\, M. levator scapulae\nMitbehandlung des Achsenorgans: HWS – CTÜ\n\n\n\n\n  \nBuchung: Direktlink Veranstalter
URL:https://therabor.de/event/craniomandibulaere-dysfunktionen-basiskurs-2/
LOCATION:AIM Collegium Zürich\, Tobelhofstr. 21\, Zürich\, 8044\, Schweiz
CATEGORIES:Schweiz
ATTACH;FMTTYPE=image/jpeg:https://therabor.de/wp-content/uploads/2024/02/Therabor-Physiotherapie_006.jpg
END:VEVENT
BEGIN:VEVENT
DTSTART;TZID=Europe/Berlin:20240607T140000
DTEND;TZID=Europe/Berlin:20240609T150000
DTSTAMP:20260424T052736
CREATED:20240223T161635Z
LAST-MODIFIED:20240507T163028Z
UID:1748-1717768800-1717945200@therabor.de
SUMMARY:Craniomandibuläre Dysfunktionen Advanced II in München
DESCRIPTION:Assoziation CMD – Sinnesorgane – HWS\n\nCraniomandibuläre Dysfunktion: Wissenschaftliche Entwicklungen – praktische Umsetzung\nAktuelles zu Fragen der Verordnung von Heilmitteln durch Zahnärzte\nVertigo und Tinnitus … aus Kiefergelenk und Halswirbelsäule?\nVernetzte Behandlungsstrategien – wie arbeiten Zahnmedizin und Physiotherapie Hand in Hand?\nPraxis-Spezial: Selbstübungsprogramme für den CMD-Patienten\nRückblende: Kerninhalte aus dem Basic-Level und Advanced-Level-I\nPatienten-Demonstration: Anamnese / Clinical Reasoning / Therapieplanung\n\n\n\n\n\n\n\nErweiterte Manuelle Therapie in der klinischen Praxis\n\nOptimieren der relevanten Untersuchungs- und Behandlungstechniken aus Basic-Level und Advanced Level I (Temporomandibular / Cranial / Cervical / Neural) unter Supervision\nNeuromuskuläre Techniken bei myofaszialen Dysfunktionen in der CMD-Region\nDarstellung verschiedener neurophysiologischer Systeme:\n\nTriggerpunktbehandlung\nMuscle Energy Technik (MET)\npostisometrische Relaxation\nStrain-Counterstrain (nach Jones)\nIntegrierte neuromuskuläre Inhibitionstechnik\nReflexpunkte (neurovaskulär u. neurolymphatisch)\n\n\n\n\n\n\n\n\n  \nBuchung: Direktlink Veranstalter
URL:https://therabor.de/event/advancedii/
LOCATION:AIM München\, St.-Wolfgangs-Platz 11\, München\, 81669
CATEGORIES:Deutschland,Team Therabor
ATTACH;FMTTYPE=image/jpeg:https://therabor.de/wp-content/uploads/2024/03/Therabor_0815_009.jpg
END:VEVENT
END:VCALENDAR