BEGIN:VCALENDAR
VERSION:2.0
PRODID:-//Physiotherapie - ECPv6.15.20//NONSGML v1.0//EN
CALSCALE:GREGORIAN
METHOD:PUBLISH
X-ORIGINAL-URL:https://therabor.de
X-WR-CALDESC:Veranstaltungen für Physiotherapie
REFRESH-INTERVAL;VALUE=DURATION:PT1H
X-Robots-Tag:noindex
X-PUBLISHED-TTL:PT1H
BEGIN:VTIMEZONE
TZID:Europe/Berlin
BEGIN:DAYLIGHT
TZOFFSETFROM:+0100
TZOFFSETTO:+0200
TZNAME:CEST
DTSTART:20230326T010000
END:DAYLIGHT
BEGIN:STANDARD
TZOFFSETFROM:+0200
TZOFFSETTO:+0100
TZNAME:CET
DTSTART:20231029T010000
END:STANDARD
BEGIN:DAYLIGHT
TZOFFSETFROM:+0100
TZOFFSETTO:+0200
TZNAME:CEST
DTSTART:20240331T010000
END:DAYLIGHT
BEGIN:STANDARD
TZOFFSETFROM:+0200
TZOFFSETTO:+0100
TZNAME:CET
DTSTART:20241027T010000
END:STANDARD
BEGIN:DAYLIGHT
TZOFFSETFROM:+0100
TZOFFSETTO:+0200
TZNAME:CEST
DTSTART:20250330T010000
END:DAYLIGHT
BEGIN:STANDARD
TZOFFSETFROM:+0200
TZOFFSETTO:+0100
TZNAME:CET
DTSTART:20251026T010000
END:STANDARD
END:VTIMEZONE
BEGIN:VEVENT
DTSTART;TZID=Europe/Berlin:20240418T090000
DTEND;TZID=Europe/Berlin:20240421T160000
DTSTAMP:20260424T084550
CREATED:20240222T141921Z
LAST-MODIFIED:20240507T163332Z
UID:1657-1713430800-1713715200@therabor.de
SUMMARY:Spezialkurs HWS und Kiefergelenk in Essen
DESCRIPTION:Dieses Seminar bringt Sie auf den neuesten Stand zum Thema Untersuchung und Behandlung der Halswirbelsäule und des Kiefergelenks. Das besondere an diesem Seminar ist vor allem aber die Verknüpfung von manualtherapeutischen mit osteopathischen Themen. So sind es besonders die Zusammenhänge aus der Faszienanatomie und den Bezügen zu viszeralen Themen. \nNorbert Folkmann ist ein ausgewiesener Spezialist auf dem Gebiet der Osteopathie. Von seiner langjährigen Praxiserfahrung können Sie in diesem Seminar besonders profitieren. Er unterrichtet seit etlichen Jahren an der Physiotherapieschule des Universitätsklinikums Essen und ist Fachdozent für viszerale Osteopathie in der IAOMT. Zusätzlich ist er Fachbuchautor auf dem Gebiet der komplementären Physiotherapie. \nDaniel Schulz ist ein sehr erfahrener Manualtherapeut mit internationalem Examen (OMT II). Er unterrichtet in bei etlichen Weiterbildungsträgern in Deutschland\, Österreich\, der Schweiz und in der Türkei. In der AIM (Arbeitsgemeinschaft Interdisziplinäre Medizin) ist er Dozent für den Fachbereich Kiefergelenk. Hier schult er seit Jahrzehnten gleichermaßen Physiotherapeuten und Zahnärzte. Seine Expertise auf diesem Gebiet hilft Ihnen bei der Weiterentwicklung ihrer therapeutischen Skills. Auf dem Gebiet der Bindegewebsphysiologie ist er einer der wenigen Dozenten\, die die Kombination aus wissenschaftlichen Erkenntnissen mit der praktischen Umsetzung in der Praxis kombinieren. Sehr erfolgreich unterrichtet er in diesem Fachbereich für etliche Anbieter. \nSeien Sie also neugierig auf dieses Seminar. Die Umsetzung der erlernten Inhalte können Sie gleich am Montag nach dem Seminar erleben. \n  \n  \n\n  \n\n	Hinweis: Für diesen Inhalt ist JavaScript erforderlich.
URL:https://therabor.de/event/spezialkurs-hws-und-kiefergelenk-mit-norbert-folkmann-und-daniel-schulz-2/
LOCATION:Therabor Akademie\, Gerichtsstraße 32\, Essen\, 45355\, Deutschland
CATEGORIES:Deutschland,Team Therabor,Therabor Essen
ATTACH;FMTTYPE=image/jpeg:https://therabor.de/wp-content/uploads/2024/02/Therabor-Physiotherapie_006.jpg
END:VEVENT
END:VCALENDAR