BEGIN:VCALENDAR
VERSION:2.0
PRODID:-//Physiotherapie - ECPv6.15.20//NONSGML v1.0//EN
CALSCALE:GREGORIAN
METHOD:PUBLISH
X-WR-CALNAME:Physiotherapie
X-ORIGINAL-URL:https://therabor.de
X-WR-CALDESC:Veranstaltungen für Physiotherapie
REFRESH-INTERVAL;VALUE=DURATION:PT1H
X-Robots-Tag:noindex
X-PUBLISHED-TTL:PT1H
BEGIN:VTIMEZONE
TZID:Europe/Berlin
BEGIN:DAYLIGHT
TZOFFSETFROM:+0100
TZOFFSETTO:+0200
TZNAME:CEST
DTSTART:20250330T010000
END:DAYLIGHT
BEGIN:STANDARD
TZOFFSETFROM:+0200
TZOFFSETTO:+0100
TZNAME:CET
DTSTART:20251026T010000
END:STANDARD
BEGIN:DAYLIGHT
TZOFFSETFROM:+0100
TZOFFSETTO:+0200
TZNAME:CEST
DTSTART:20260329T010000
END:DAYLIGHT
BEGIN:STANDARD
TZOFFSETFROM:+0200
TZOFFSETTO:+0100
TZNAME:CET
DTSTART:20261025T010000
END:STANDARD
BEGIN:DAYLIGHT
TZOFFSETFROM:+0100
TZOFFSETTO:+0200
TZNAME:CEST
DTSTART:20270328T010000
END:DAYLIGHT
BEGIN:STANDARD
TZOFFSETFROM:+0200
TZOFFSETTO:+0100
TZNAME:CET
DTSTART:20271031T010000
END:STANDARD
END:VTIMEZONE
BEGIN:VEVENT
DTSTART;TZID=Europe/Berlin:20260612T090000
DTEND;TZID=Europe/Berlin:20260614T160000
DTSTAMP:20260422T164046
CREATED:20250930T101636Z
LAST-MODIFIED:20250930T195843Z
UID:2344-1781254800-1781452800@therabor.de
SUMMARY:Bindegewebsphysiologie in der Sportphysiotherapie in München
DESCRIPTION:Direktlink zum Veranstalter: https://www.spt-education.de/ \nIn diesem Kurs beschäftigen wir uns mit der Bindegewebsphysiologie über einen systematischen Ansatz. Die Grundlagen für das Verständnis von Störungen im Heilungsverlauf bei Patienten mit Beschwerden im Bewegungsapparat werden vermittelt. Daraus ergibt sich ein Blick auf die homöostatischen Prozesse im Körper\, die ins Ungleichgewicht geraten\, wenn Wundheilungsprozesse nicht linear verlaufen. Warum entwickelt ein Patient persistierende Beschwerden und wie können wir ihnen begegnen. \nIm zweiten Teil des Kurses beschäftigen wir uns mit Schmerzphysiologie und -pathologie und der Frage\, wie wir diesen Entwicklungen entgegen wirken können. Wundheilungsprozesse für spezifische Gewebe und deren Beeinflussung sind ebenfalls ein Schwerpunkt im zweiten Teil. \nZiel ist es\, dem Teilnehmer:innen  ein umfassendes Wissen über die Gewebe zu vermitteln\, mit denen sie sich tagtäglich beschäftigen und Erklärungsmodelle zu persistierenden Beschwerdebildern zu vermitteln.
URL:https://therabor.de/event/bindegewebsphysiologie-in-der-sportphysiotherapie-muenchen/
LOCATION:SPT education München\, Germany
CATEGORIES:Deutschland,Team Therabor
ATTACH;FMTTYPE=image/jpeg:https://therabor.de/wp-content/uploads/2024/05/therabor-3084-1.jpg
END:VEVENT
BEGIN:VEVENT
DTSTART;TZID=Europe/Berlin:20260618T110000
DTEND;TZID=Europe/Berlin:20260621T163000
DTSTAMP:20260422T164046
CREATED:20250930T102019Z
LAST-MODIFIED:20250930T195818Z
UID:2347-1781780400-1782059400@therabor.de
SUMMARY:Komplementäre Physiotherapeutische Medizin Viszerale Therapie in Klagenfurt
DESCRIPTION:Direktlink zum Veranstalter: https://www.fbz-klagenfurt.at/lehrgaenge/detail/kpm-osteopathie-der-organsysteme-grundlagenlehrgang-3 \nDie osteopathische Diagnostik und Behandlung des Verdauungs- und Urogenitaltrakts\, ein wichtiger Baustein der komplementären Medizin. (4 Tage) \nIn diesem Kurs vermitteln wir die Herangehensweise an Beschwerdebilder\, die in Zusammenhang mit viszeralen Themen stehen. Hier gibt es drei wesentliche Zugänge: \n\nDer fasziale Bezug: Hier werden Aufhängesysteme des Viszerums erklärt und ihre mechanischen Bezüge untersucht und behandelt. Wie erklären sich beispielsweise einseitig auftretende Schmerzzustände und Bewegungsstörungen. Welchen wissenschaftlichen Bezug haben unspezifische Untersuchungs- und Behandlungsmethoden mit verschiedensten Herangehensweisen innerhalb der Untersuchung und Behandlung.\nDer neuroreflektorische Bezug: In diesem Kursteil werden Nervensysteme erklärt\, die einen direkten Einfluss auf das viszerale System haben. Unter anderem zählt hier natürlich das vegetative Nervensystem zu den Einflussfaktoren.\nDer hämodynamische Bezug: Welche direkten Beschwerden an Organsystemen haben welchen Einfluss auf den Bewegungsapparat. Wie erkenne ich sie und wie kann ich sie adäquat untersuchen und behandeln. Welchen Bezug haben andere Organsysteme.
URL:https://therabor.de/event/komplementaere-physiotherapeutische-medizin-viszerale-therapie-klagenfurt/
LOCATION:FBZ Klagenfurt\, Waaggasse 18\, Klagenfurt\, 9020\, Österreich
CATEGORIES:Österreich
ATTACH;FMTTYPE=image/jpeg:https://therabor.de/wp-content/uploads/2024/02/Marco-Stein_003.jpg
END:VEVENT
BEGIN:VEVENT
DTSTART;TZID=Europe/Berlin:20260625T110000
DTEND;TZID=Europe/Berlin:20260628T163000
DTSTAMP:20260422T164046
CREATED:20250930T102355Z
LAST-MODIFIED:20250930T195748Z
UID:2349-1782385200-1782664200@therabor.de
SUMMARY:Komplementäre Physiotherapeutische Medizin Symbiose westlicher und östlicher Methoden in Linz
DESCRIPTION:Direktlink zum Veranstalter: https://kursprogramm.fortbildungsakademie.at/Kurs/KPM-Grundkurs-Symbiose-westlicher-und-oestlicher-Medizin-26/ \nIm Praxisalltag begegnen Therapeut:innen häufig Patient:innen mit einseitigen Beschwerden.  \nEin Erklärungsansatz betrachtet den Einstiegspunkt in das Meridiansystem basierend auf dem Bindegewebe.  \nDieser Kurs untersucht die Verbindung zwischen TCM und Schulmedizin\, die Wechselwirkungen der Meridiane und die Nutzung von Reflexzonen zur Diagnostik und Therapie.  \nDie Unfähigkeit des Körpers\, sein Gleichgewicht wiederherzustellen\, wird als Distress bezeichnet und führt zu einer Auseinandersetzung mit den Grundprinzipien der TCM und der Schulmedizin.
URL:https://therabor.de/event/komplementaere-physiotherapeutische-medizin-symbiose-westlicher-und-oestlicher-methoden-linz/
LOCATION:fba Fortbildungsakademie Linz\, Scharitzer Straße 8\, Linz\, 4020\, Österreich
CATEGORIES:Österreich
ATTACH;FMTTYPE=image/jpeg:https://therabor.de/wp-content/uploads/2024/02/Andreas_Kernbach_002.jpg
END:VEVENT
END:VCALENDAR