BEGIN:VCALENDAR
VERSION:2.0
PRODID:-//Physiotherapie - ECPv6.15.20//NONSGML v1.0//EN
CALSCALE:GREGORIAN
METHOD:PUBLISH
X-ORIGINAL-URL:https://therabor.de
X-WR-CALDESC:Veranstaltungen für Physiotherapie
REFRESH-INTERVAL;VALUE=DURATION:PT1H
X-Robots-Tag:noindex
X-PUBLISHED-TTL:PT1H
BEGIN:VTIMEZONE
TZID:Europe/Berlin
BEGIN:DAYLIGHT
TZOFFSETFROM:+0100
TZOFFSETTO:+0200
TZNAME:CEST
DTSTART:20250330T010000
END:DAYLIGHT
BEGIN:STANDARD
TZOFFSETFROM:+0200
TZOFFSETTO:+0100
TZNAME:CET
DTSTART:20251026T010000
END:STANDARD
BEGIN:DAYLIGHT
TZOFFSETFROM:+0100
TZOFFSETTO:+0200
TZNAME:CEST
DTSTART:20260329T010000
END:DAYLIGHT
BEGIN:STANDARD
TZOFFSETFROM:+0200
TZOFFSETTO:+0100
TZNAME:CET
DTSTART:20261025T010000
END:STANDARD
BEGIN:DAYLIGHT
TZOFFSETFROM:+0100
TZOFFSETTO:+0200
TZNAME:CEST
DTSTART:20270328T010000
END:DAYLIGHT
BEGIN:STANDARD
TZOFFSETFROM:+0200
TZOFFSETTO:+0100
TZNAME:CET
DTSTART:20271031T010000
END:STANDARD
END:VTIMEZONE
BEGIN:VEVENT
DTSTART;TZID=Europe/Berlin:20260514T110000
DTEND;TZID=Europe/Berlin:20260517T163000
DTSTAMP:20260422T144101
CREATED:20250930T095841Z
LAST-MODIFIED:20250930T195933Z
UID:2339-1778756400-1779035400@therabor.de
SUMMARY:Komplementäre Physiotherapeutische Medizin  Symbiose westliche/östliche Medizin in Kiel
DESCRIPTION:Direktlink zum Veranstalter: https://fobize.de/de/kurse?kursort=9&kursortName=Kiel \n  \nIm Praxisalltag begegnen Therapeut:innen häufig Patient:innen mit Beschwerden\, die sich über eine Körperhälfte ausbreiten.  \nEin Erklärungsansatz betrachtet den Einstiegspunkt in das Meridiansystem basierend auf dem Bindegewebe.  \nDieser Kurs untersucht die Verbindung zwischen TCM und Schulmedizin\, die Wechselwirkungen der Meridiane und die Nutzung von Reflexzonen zur Diagnostik und Therapie.  \nDie Unfähigkeit des Körpers\, sein Gleichgewicht wiederherzustellen\, wird als Distress bezeichnet und führt zu einer Auseinandersetzung mit den Grundprinzipien der TCM und der Schulmedizin.
URL:https://therabor.de/event/komplementaere-physiotherapeutische-medizin-symbiose-westliche-oestliche-medizin-kiel/
LOCATION:FobiZe Kiel\, Knooper Weg 75\, Kiel\, 24116
CATEGORIES:Deutschland
ATTACH;FMTTYPE=image/jpeg:https://therabor.de/wp-content/uploads/2024/02/Andreas_Kernbach_002.jpg
END:VEVENT
BEGIN:VEVENT
DTSTART;TZID=Europe/Berlin:20260521T110000
DTEND;TZID=Europe/Berlin:20260524T163000
DTSTAMP:20260422T144101
CREATED:20250930T100507Z
LAST-MODIFIED:20250930T195909Z
UID:2341-1779361200-1779640200@therabor.de
SUMMARY:Komplementäre Physiotherapeutische Medizin Symbiose westliche und östliche Medizin in Klagenfurt
DESCRIPTION:Direktlink zum Veranstalter: https://www.fbz-klagenfurt.at/lehrgaenge/detail/kpm-symbiose-westlicher-ostlicher-medizin-grundlagenlehrgang\n\n\nDas Konzept für die Integration der effizientesten Therapieformen in der Physiotherapie \nIhr lernt verschiedene Therapieformen kennen\, zu kombinieren und effektiv an klinischen Beispielen anzuwenden.In dieser Weiterbildung werden verschiedene physiotherapeutische Anwendungsmöglichkeiten und Herangehensweisen gelehrt. In erster Linie ist das der komplementäre Ansatz. \nSicherlich stoßt auch Ihr wie wir in der täglichen Praxis immer wieder an Eure Grenzen. Manchmal sind komplexe\, klinische Phänomene schwer zu erfassen. Genau dieser Problematik wollen wir uns in dieser Ausbildung nähern. \nDa wir über Jahre hinweg viele verschiedene Konzepte kennengelernt haben\, sind wir in der Lage\, diese effektiv zu verknüpfen. Darüber hinaus verbinden wir die Kenntnisse aus der Physiotherapie mit komplementären Herangehensweisen aus der Medizin. Unter anderem verknüpfen wir die Erkenntnisse aus der Mikronährstofftherapie und aus Naturheilverfahren\, die sich optimal mit physiotherapeutischen Methoden verbinden lassen. \nIhr Benefit ist ein besseres Verständnis von komplexen klinischen Bildern und eine deutlich sicherere Umgangsweise mit den bekannten Methoden aus der modernen Therapie. Lassen Sie uns gemeinsam an einer lösungsorientierten Arbeitsweise in Ihrer Praxis arbeiten! \nDiese Seminare sind wichtig für das Grundverständnis der komplementären Physiotherapie und deshalb Pflichtseminare für die Buchung von Klinischen Kursen. \n\n\nWechselwirkungen zwischen Physiologie und komplementären Methoden\, Möglichkeiten und Mehrwert im Praxisalltag (4 Tage)Im Praxisalltag begegnen einem immer wieder Patienten mit Beschwerdebildern auf einer Körperhälfte. Gibt es Erklärungsmodelle zu diesen Phänomenen? Wir nähern uns diesen klinischen Bildern aus verschiedenen Richtungen. \n\nAnhand der aktuellen Studienlage werden Erklärungsmodelle zum Eingang in das Meridiansystem vorgestellt. Hierbei dient als Grundlage das Bindegewebe\, welches in Anatomie und Physiologie behandelt wird. Ein grundliegender Teil dieses Kurses zielt darauf TCM und Schulmedizin im Diskurs wahrzunehmen. Wo hört TCM auf\, wo fängt Schulmedizin an? Alle 12 Meridiane werden in Zusammenhang zu osteopathischen Ketten gebracht\, untersucht und behandelt. Wie sich die einzelnen Meridiane gegenseitig beeinflussen\, vermitteln wir Euch anhand des Prinzips verschiedener Herangehensweisen aus der östlichen Medizin. Verschiedene Reflexorgane wie Gesicht\, Ohr und Fuß spiegeln Veränderungen im Gesamtsystem des Menschen wider und werden hierbei zur Diagnostik und Therapie herangezogen. Schulmedizinische\, osteopathische aber auch energetische Ansätze werden dadurch klar verständlich.\nDie Unfähigkeit des Körpers sein natürliches Gleichgewicht wiederherzustellen\, nennt man Distress. Hierbei steht die Gegenüberstellung von Grundgedanken der TCM und der Schulmedizin im Focus.
URL:https://therabor.de/event/komplementaere-physiotherapeutische-medizin-symbiose-westliche-und-oestliche-medizin-klagenfurt/
LOCATION:FBZ Klagenfurt\, Waaggasse 18\, Klagenfurt\, 9020\, Österreich
CATEGORIES:Österreich
ATTACH;FMTTYPE=image/jpeg:https://therabor.de/wp-content/uploads/2024/02/Andreas_Kernbach_002.jpg
END:VEVENT
END:VCALENDAR