BEGIN:VCALENDAR
VERSION:2.0
PRODID:-//Physiotherapie - ECPv6.15.20//NONSGML v1.0//EN
CALSCALE:GREGORIAN
METHOD:PUBLISH
X-WR-CALNAME:Physiotherapie
X-ORIGINAL-URL:https://therabor.de
X-WR-CALDESC:Veranstaltungen für Physiotherapie
REFRESH-INTERVAL;VALUE=DURATION:PT1H
X-Robots-Tag:noindex
X-PUBLISHED-TTL:PT1H
BEGIN:VTIMEZONE
TZID:Europe/Berlin
BEGIN:DAYLIGHT
TZOFFSETFROM:+0100
TZOFFSETTO:+0200
TZNAME:CEST
DTSTART:20250330T010000
END:DAYLIGHT
BEGIN:STANDARD
TZOFFSETFROM:+0200
TZOFFSETTO:+0100
TZNAME:CET
DTSTART:20251026T010000
END:STANDARD
BEGIN:DAYLIGHT
TZOFFSETFROM:+0100
TZOFFSETTO:+0200
TZNAME:CEST
DTSTART:20260329T010000
END:DAYLIGHT
BEGIN:STANDARD
TZOFFSETFROM:+0200
TZOFFSETTO:+0100
TZNAME:CET
DTSTART:20261025T010000
END:STANDARD
BEGIN:DAYLIGHT
TZOFFSETFROM:+0100
TZOFFSETTO:+0200
TZNAME:CEST
DTSTART:20270328T010000
END:DAYLIGHT
BEGIN:STANDARD
TZOFFSETFROM:+0200
TZOFFSETTO:+0100
TZNAME:CET
DTSTART:20271031T010000
END:STANDARD
END:VTIMEZONE
BEGIN:VEVENT
DTSTART;TZID=Europe/Berlin:20260312T110000
DTEND;TZID=Europe/Berlin:20260315T160000
DTSTAMP:20260422T144654
CREATED:20250909T163212Z
LAST-MODIFIED:20250909T165756Z
UID:2318-1773313200-1773590400@therabor.de
SUMMARY:Komplementäre physiotherapeutische Medizin Viszerale Medizin Basiskurs in Linz
DESCRIPTION:Direktlink zum Veranstalter: \n\nDieses Seminar ist wichtig für das Grundverständnis der komplementären Physiotherapie und deshalb ein Pflichtseminar für die Buchung von Aufbauseminaren = klinischen Lehrgängen\nDie osteopathische Diagnostik und Behandlung des Verdauungs- und Urogenitaltrakts\, ein wichtiger Baustein der komplementären Medizin. (4 Tage)\n\nEinführung viscerale Osteopathie\n\nDie Niere legt täglich einen Weg von ca. 600 Metern zurück. Bei einer\, z.B. nach Nierenbeckenentzündung\, entstandenen cranialen Fixation wird das Diapragma thorakale den Druck auf die Niere gering halten. Dadurch erhöht sich die thorakale Atmung und die Aktivität der Atemhilfsmuskulatur. Daraus folgt eine Spannungszunahme der Halsmuskulatur. Die Folge kann eine Kompression des N. occipitalis major sein\, die dann verantwortlich für cervicalen Kopfschmerz ist. Dieses Beispiel macht deutlich\, wie wichtig es ist die „Primärläsionen“ zu finden. Die ausschließliche Behandlung der Halsfascie wird in diesem Beispiel nicht ausreichend sein.\n\nZiel des Lehrganges ist also\, den Teilnehmer:innenzu einer Kausaltherapie anzuleiten und die viscerale Betrachtung in das klinische Patientenmanagement einzubeziehen. Der Schwerpunkt liegt auf der topographischen Anatomie mit kurzer Einführung in die Organphysiologie sowie den wichtigsten organspezifischen Untersuchungsmöglichkeiten.\n\nDie detaillierte Physiologie der Organe und die entsprechenden physiotherapeutischen und osteopathischen Behandlungsmöglichkeiten sind Thema der Aufbaukurse.\n\nBiomechanik\npathologisch klinische Konsequenzen\nneurologisch klinische Konsequenzen\nenergetisch klinische Konsequenzen
URL:https://therabor.de/event/komplementaere-physiktherapeutische-medizin-viszerale-medizin-basiskurs-in-linz/
LOCATION:fba Fortbildungsakademie Linz\, Scharitzer Straße 8\, Linz\, 4020\, Österreich
CATEGORIES:Österreich
ATTACH;FMTTYPE=image/jpeg:https://therabor.de/wp-content/uploads/2024/02/Marco-Stein_003.jpg
END:VEVENT
BEGIN:VEVENT
DTSTART;TZID=Europe/Berlin:20260313T140000
DTEND;TZID=Europe/Berlin:20260315T160000
DTSTAMP:20260422T144654
CREATED:20250909T163605Z
LAST-MODIFIED:20250909T163605Z
UID:2320-1773410400-1773590400@therabor.de
SUMMARY:Craniomandibuläre Dysfunktionen Advanced 2 in Berlin
DESCRIPTION:Direktlink zum Veranstalter: \nAssoziation CMD – Sinnesorgane – HWS\n\nCraniomandibuläre Dysfunktion: Wissenschaftliche Entwicklungen – praktische Umsetzung\nAktuelles zu Fragen der Verordnung von Heilmitteln durch Zahnärzte\nVertigo und Tinnitus … aus Kiefergelenk und Halswirbelsäule?\nVernetzte Behandlungsstrategien – wie arbeiten Zahnmedizin und Physiotherapie Hand in Hand?\nPraxis-Spezial: Selbstübungsprogramme für den CMD-Patienten\nRückblende: Kerninhalte aus dem Basic-Level und Advanced-Level-I\nPatienten-Demonstration: Anamnese / Clinical Reasoning / Therapieplanung\n\n\n\n\n\n\n\nErweiterte Manuelle Therapie in der klinischen Praxis\n\nOptimieren der relevanten Untersuchungs- und Behandlungstechniken aus Basic-Level und Advanced Level I (Temporomandibular / Cranial / Cervical / Neural) unter Supervision\nNeuromuskuläre Techniken bei myofaszialen Dysfunktionen in der CMD-Region\nDarstellung verschiedener neurophysiologischer Systeme:\n\nTriggerpunktbehandlung\nMuscle Energy Technik (MET)\npostisometrische Relaxation\nStrain-Counterstrain (nach Jones)\nIntegrierte neuromuskuläre Inhibitionstechnik\nReflexpunkte (neurovaskulär u. neurolymphatisch)
URL:https://therabor.de/event/craniomandibulaere-dysfunktionen-advanced-2-in-berlin/
LOCATION:AIM Berlin\, Augustenburger Platz 1\, Berlin\, 13353\, Deutschland
CATEGORIES:Deutschland
ATTACH;FMTTYPE=image/jpeg:https://therabor.de/wp-content/uploads/2024/02/Therabor-Physiotherapie_007.jpg
END:VEVENT
BEGIN:VEVENT
DTSTART;VALUE=DATE:20260321
DTEND;VALUE=DATE:20260322
DTSTAMP:20260422T144654
CREATED:20250909T162348Z
LAST-MODIFIED:20250930T211007Z
UID:2313-1774051200-1774137599@therabor.de
SUMMARY:Komplementäre physiotherapeutische Medizin Physio meets Bindegewebe Online bei der FOBIZE Teil 1
DESCRIPTION:Direktlink zum Veranstalter:  \n  \nKenntnisse der Bindegewebsphysiologie sind die Grundlagen für eine fundierte und zielgerichtete Behandlung.  \nNur derjenige\, der die physiologischen Prozesse im Körper nach einer Verletzung\, während Immobilisation und Ähnlichem kennt\, ist in der Lage\, durch eine gezielte Therapie die notwendigen physiologischen Reize zu setzen\, die zur Wiederherstellung der normalen Funktion führen können. Empfohlene Literatur: »Angewandte Physiologie – Band 1«\, Frans van den Berg\, Thieme Verlag  \n  \nKURSINHALT \n\nGrundlagen der Neuro-\, Schmerz- und Bindegewebsphysiologie\nSpezielle Bindegewebsphysiologie – Gelenkknorpel\, Bandscheibe und Meniskus \nSpezielle Bindegewebsphysiologie – Muskelgewebe (Insertion\, Sehne\, Muskelbauch) und Nerven
URL:https://therabor.de/event/komplementaere-physiktherapeutische-medizin-physio-meets-bindegewebe-online-bei-der-fobize-teil-1/
LOCATION:FobiZE Bremen\, Westerstraße 35\, Bremen\, 28199\, Germany
CATEGORIES:Deutschland,Team Therabor
ATTACH;FMTTYPE=image/jpeg:https://therabor.de/wp-content/uploads/2024/05/therabor-3084-1.jpg
END:VEVENT
BEGIN:VEVENT
DTSTART;TZID=Europe/Berlin:20260327T140000
DTEND;TZID=Europe/Berlin:20260329T160000
DTSTAMP:20260422T144654
CREATED:20250909T163940Z
LAST-MODIFIED:20250909T163940Z
UID:2322-1774620000-1774800000@therabor.de
SUMMARY:Craniomandibuläre Dysfunktion Advanced 2 in Zürich
DESCRIPTION:Direktlink zum Veranstalter: \n\nAssoziation CMD – Sinnesorgane – HWS\n\nCraniomandibuläre Dysfunktion: Wissenschaftliche Entwicklungen – praktische Umsetzung\nAktuelles zu Fragen der Verordnung von Heilmitteln durch Zahnärzte\nVertigo und Tinnitus … aus Kiefergelenk und Halswirbelsäule?\nVernetzte Behandlungsstrategien – wie arbeiten Zahnmedizin und Physiotherapie Hand in Hand?\nPraxis-Spezial: Selbstübungsprogramme für den CMD-Patienten\nRückblende: Kerninhalte aus dem Basic-Level und Advanced-Level-I\nPatienten-Demonstration: Anamnese / Clinical Reasoning / Therapieplanung\n\n\n\n\n\n\n\nErweiterte Manuelle Therapie in der klinischen Praxis\n\nOptimieren der relevanten Untersuchungs- und Behandlungstechniken aus Basic-Level und Advanced Level I (Temporomandibular / Cranial / Cervical / Neural) unter Supervision\nNeuromuskuläre Techniken bei myofaszialen Dysfunktionen in der CMD-Region\nDarstellung verschiedener neurophysiologischer Systeme:\n\nTriggerpunktbehandlung\nMuscle Energy Technik (MET)\npostisometrische Relaxation\nStrain-Counterstrain (nach Jones)\nIntegrierte neuromuskuläre Inhibitionstechnik\nReflexpunkte (neurovaskulär u. neurolymphatisch)
URL:https://therabor.de/event/craniomandibulaere-dysfunktion-advanced-2-in-zuerich/
LOCATION:AIM Collegium Zürich\, Tobelhofstr. 21\, Zürich\, 8044\, Schweiz
CATEGORIES:Schweiz
ATTACH;FMTTYPE=image/jpeg:https://therabor.de/wp-content/uploads/2024/02/Therabor-Physiotherapie_005.jpg
END:VEVENT
BEGIN:VEVENT
DTSTART;VALUE=DATE:20260328
DTEND;VALUE=DATE:20260329
DTSTAMP:20260422T144654
CREATED:20250930T211353Z
LAST-MODIFIED:20250930T211353Z
UID:2382-1774656000-1774742399@therabor.de
SUMMARY:Komplementäre Physiotherapeutische Medizin Physiotherapie meets Bindegewebe online Teil 2 bei der FOBIZE
DESCRIPTION:Direktlink zum Veranstalter; https://www.fobize.de/de/kurs?kursnummer=HB26871&kennung=159432000 \n** Physiotherapie meets Bindegewebe – ONLINE SEMINAR** \nGrundlagen physiotherapeutischen Handelns (Gewebe verstehen\, untersuchen und behandeln) (2 Tage).\nDer Kurs ist ein Online Seminar. Er wird an zwei Tagen unterrichtet\, ist aber immer so geplant\, dass Tag 1 mindestens im Abstand von einer Woche zu Tag 2 steht. Wir unterrichten jeweils 2 mal 4 Stunden.\nTeil des Skripts ist das Buch Angewandte Bindegewebsphysiologie Band 1 von Frans van den Berg\, erschienen im Georg Thieme Verlag. Der Teilnehmer erhält nach Buchung ein Exemplar dieses Buches auf dem Postweg zugesandt. Das Buch ist im Kurspreis inbegriffen und ein wichtiges Standardwerk für die gesamte Reihe KPM.\n(dieser Kurs muss nicht belegt werden\, wenn der Teilnehmer nachweisen kann\, dass er in der Vergangenheit bei der SPT education oder an anderer Stelle einen Bindegewebskurs absolviert hat) \nIn diesem Seminar geht es vornehmlich um Grundlagen physiotherapeutischer Beurteilung von klinischen Bildern. Hierfür ist ein systemischer Betrachtungsansatz essenziell.\nViele Beschwerdebilder werden unter anderem stark beeinflusst von hormonellen und neurovegetativen Regelkreisen. Diese zu erkennen und zu verstehen ist ein wichtiger Anteil dieses Kurses.\nIn der täglichen Praxis behandeln und beeinflussen wir ständig das Bindegewebe des Menschen\, deshalb gehört es zu den wichtigsten Skills in diesem Beruf\, dieses Gewebe genau zu kennen und seine spezifischen Veränderungsmechanismen zu begreifen. Ein Teil des Seminars ist dann auch die physiologische Grundlage des Aufbaus von Bindegewebe. \nDaraus ergibt sich unweigerlich die Lehre über die Kenntnis der Heilungskapazität von diesem Gewebekomplex. Wundheilungsprozesse und deren Beeinflussung durch unsere Therapie sind unser tägliches Brot.\nEs wäre doch fantastisch\, zu jedem Zeitpunkt genau zu wissen\, in welcher Situation sich das Gewebe gerade befindet. Welche negativen Einflussfaktoren gibt es und wie erkenne ich sie und wie kann ich sie beeinflussen. Jedes spezifische Gewebe funktioniert unterschiedlich. Die Kenntnis über eben diese Unterschiede sind Ziele dieses Lehrgangs. \nLasst uns physiotherapeutischen Handeln logischer gestalten. Das lernt ihr in diesem Kurs.
URL:https://therabor.de/event/komplementaere-physiotherapeutische-medizin-physiotherapie-meets-bindegewebe-online-teil-2-bei-der-fobize/
LOCATION:FobiZE Bremen\, Westerstraße 35\, Bremen\, 28199\, Germany
CATEGORIES:Deutschland,Team Therabor
ATTACH;FMTTYPE=image/jpeg:https://therabor.de/wp-content/uploads/2024/05/therabor-3084-1.jpg
END:VEVENT
END:VCALENDAR