BEGIN:VCALENDAR
VERSION:2.0
PRODID:-//Physiotherapie - ECPv6.15.20//NONSGML v1.0//EN
CALSCALE:GREGORIAN
METHOD:PUBLISH
X-ORIGINAL-URL:https://therabor.de
X-WR-CALDESC:Veranstaltungen für Physiotherapie
REFRESH-INTERVAL;VALUE=DURATION:PT1H
X-Robots-Tag:noindex
X-PUBLISHED-TTL:PT1H
BEGIN:VTIMEZONE
TZID:Europe/Istanbul
BEGIN:STANDARD
TZOFFSETFROM:+0300
TZOFFSETTO:+0300
TZNAME:+03
DTSTART:20250101T000000
END:STANDARD
END:VTIMEZONE
BEGIN:VTIMEZONE
TZID:Europe/Berlin
BEGIN:DAYLIGHT
TZOFFSETFROM:+0100
TZOFFSETTO:+0200
TZNAME:CEST
DTSTART:20250330T010000
END:DAYLIGHT
BEGIN:STANDARD
TZOFFSETFROM:+0200
TZOFFSETTO:+0100
TZNAME:CET
DTSTART:20251026T010000
END:STANDARD
BEGIN:DAYLIGHT
TZOFFSETFROM:+0100
TZOFFSETTO:+0200
TZNAME:CEST
DTSTART:20260329T010000
END:DAYLIGHT
BEGIN:STANDARD
TZOFFSETFROM:+0200
TZOFFSETTO:+0100
TZNAME:CET
DTSTART:20261025T010000
END:STANDARD
BEGIN:DAYLIGHT
TZOFFSETFROM:+0100
TZOFFSETTO:+0200
TZNAME:CEST
DTSTART:20270328T010000
END:DAYLIGHT
BEGIN:STANDARD
TZOFFSETFROM:+0200
TZOFFSETTO:+0100
TZNAME:CET
DTSTART:20271031T010000
END:STANDARD
END:VTIMEZONE
BEGIN:VEVENT
DTSTART;TZID=Europe/Istanbul:20260213T090000
DTEND;TZID=Europe/Istanbul:20260215T160000
DTSTAMP:20260422T165113
CREATED:20250909T162716Z
LAST-MODIFIED:20250909T162716Z
UID:2316-1770973200-1771171200@therabor.de
SUMMARY:Craniomandibuläre Dysfunktionen Advanced 1 in Istanbul
DESCRIPTION:Der CMD-Patient von „Kopf bis Fuß“ – Craniomandibuläre Dysfunktion\n\nCraniomandibuläre Dysfunktion:\nTrends und therapeutische Strategien bei so genannten „Problempatienten“\nVertiefende Darstellung der anatomischen Strukturen des Craniomandibulären Systems\nCMD – Ursache oder Folge?\nKlinische Diagnostik / Behandlung in der Physiotherapie\nSelbstübungsprogramme bei CMD\nPraktische Repetition Basis-Seminar und erweiterte Behandlungstechniken der anteromedialen Diskusverlagerung\n\n\n\n\n\n\n\nErweiterte Manuelle Therapie in der klinischen Praxis\n\nDiskusverlagerung mit Reduktion\nDiskusverlagerung ohne Reduktion\nmediale und laterale Diskusverlagerung\nAufbau eines Patienten-Heimprogramms\nFunktionelle klinische Zusammenhänge des craniomandibulären Systems mit der HWS\nUntersuchungs- und Behandlungstechniken der Cervicalregion\n• Obere Kopfgelenke (C0/1\, C1/2)\n• Cervicalsegment C2/3\n• Neurale Strukturen\, Verbindungen mit dem Fasziensystem\n• Cervicothorakaler Übergang (C7 – Th 3/4)\nDas Kiefergelenk und obere HWS innerhalb der Posturologie\n• aufsteigende /absteigende Läsionsketten\n• Test- und Behandlungsmöglichkeiten
URL:https://therabor.de/event/craniomandibulaere-dysfunktionen-advanced-1-in-istanbul/
LOCATION:OMT Istanbul\, Istanbul\, Türkei
CATEGORIES:Istanbul,Team Therabor
ATTACH;FMTTYPE=image/jpeg:https://therabor.de/wp-content/uploads/2024/05/therabor-3084-1.jpg
END:VEVENT
BEGIN:VEVENT
DTSTART;VALUE=DATE:20260227
DTEND;VALUE=DATE:20260228
DTSTAMP:20260422T165113
CREATED:20250909T164451Z
LAST-MODIFIED:20250909T164715Z
UID:2324-1772150400-1772236799@therabor.de
SUMMARY:Komplementäre physiotherapeutische Medizin Physiotherapie meets Bindegewebe Online Teil 1 in Klagenfurt
DESCRIPTION:Direktlink zum Veranstalter:  \nKenntnisse der Bindegewebsphysiologie sind die Grundlagen für eine fundierte und zielgerichtete Behandlung.  \nNur derjenige\, der die physiologischen Prozesse im Körper nach einer Verletzung\, während Immobilisation und Ähnlichem kennt\, ist in der Lage\, durch eine gezielte Therapie die notwendigen physiologischen Reize zu setzen\, die zur Wiederherstellung der normalen Funktion führen können. Empfohlene Literatur: »Angewandte Physiologie – Band 1«\, Frans van den Berg\, Thieme Verlag  \n  \nKURSINHALT \n\nGrundlagen der Neuro-\, Schmerz- und Bindegewebsphysiologie\nSpezielle Bindegewebsphysiologie – Gelenkknorpel\, Bandscheibe und Meniskus \nSpezielle Bindegewebsphysiologie – Muskelgewebe (Insertion\, Sehne\, Muskelbauch) und Nerven
URL:https://therabor.de/event/komplementaere-physiotherapeutische-medizin-physiotherapie-meets-bindegewebe-online-teil-1-in-klagenfurt/
LOCATION:FBZ Klagenfurt\, Waaggasse 18\, Klagenfurt\, 9020\, Österreich
CATEGORIES:Österreich,Team Therabor
ATTACH;FMTTYPE=image/jpeg:https://therabor.de/wp-content/uploads/2024/05/therabor-3084-1.jpg
END:VEVENT
END:VCALENDAR